BEGIN:VCALENDAR
VERSION:2.0
PRODID:-//wp-events-plugin.com//7.1.7//EN
BEGIN:VEVENT
UID:184@poonamusic.com
DTSTART:20120107T134500Z
DTEND:20120107T160000Z
DTSTAMP:20250707T035037Z
URL:https://poonamusic.com/events/3-divas/
SUMMARY:3 Divas
DESCRIPTION:Mazda Hall at 7.00 pm\n(Free Admittance)\nPatricia Rozario\, Su
 sanna Hurrell\, Joanne D’Mello\, sopranos / Mark Troop\, piano\nIn arias
  by Handel\, Gluck\, Mozart\, Bizet\, Gounod\, Puccini\, Massenet\, Delib
 és and Johann Strauss II including the famous Queen of the Night Arias an
 d Duet from Lakmé\n\n
CATEGORIES:Vocal Recitals
LOCATION:Mazda Hall\, Sardar Dastur Hoshang Boys High School\, Pune\, India
GEO:18.5198845;73.87824479999995
X-APPLE-STRUCTURED-LOCATION;VALUE=URI;X-ADDRESS=Sardar Dastur Hoshang Boys 
 High School\, Pune\, India;X-APPLE-RADIUS=100;X-TITLE=Mazda Hall:geo:18.51
 98845,73.87824479999995
END:VEVENT
END:VCALENDAR