BEGIN:VCALENDAR
VERSION:2.0
PRODID:-//wp-events-plugin.com//7.1.7//EN
BEGIN:VEVENT
UID:348@poonamusic.com
DTSTART:20050619T131500Z
DTEND:20050619T153000Z
DTSTAMP:20150302T203421Z
URL:https://poonamusic.com/events/a-life-with-beethoven-featuring-anne-sop
 hie-mutter-violin-and-lambert-orkis-piano-a-film-written-and-directed-by-r
 einer-e-moritz/
SUMMARY:A life with Beethoven – featuring Anne-Sophie Mutter\, violin and
  Lambert Orkis\, Piano – a film written and directed by Reiner E. Moritz
DESCRIPTION:A life with Beethoven – featuring Anne-Sophie Mutter\, violin
  and Lambert Orkis\, Piano – a film written and directed by Reiner E. Mo
 ritz
CATEGORIES:Video screenings
LOCATION:Mazda Hall\, Sardar Dastur Hoshang Boys High School\, Pune\, India
GEO:18.5198845;73.87824479999995
X-APPLE-STRUCTURED-LOCATION;VALUE=URI;X-ADDRESS=Sardar Dastur Hoshang Boys 
 High School\, Pune\, India;X-APPLE-RADIUS=100;X-TITLE=Mazda Hall:geo:18.51
 98845,73.87824479999995
END:VEVENT
END:VCALENDAR