BEGIN:VCALENDAR
VERSION:2.0
PRODID:-//wp-events-plugin.com//7.1.7//EN
BEGIN:VEVENT
UID:161@poonamusic.com
DTSTART:20101027T131500Z
DTEND:20101027T153000Z
DTSTAMP:20150302T203427Z
URL:https://poonamusic.com/events/a-night-at-the-opera-mats-carlsson-tenor
 -michael-engstrom-piano/
SUMMARY:A Night at the Opera - Mats Carlsson\, tenor / Michael Engström\,
  piano
DESCRIPTION:A Night at the Opera - Mats Carlsson\, tenor / Michael Engstr
 öm\, piano in association with the Embassy of Sweden in New Delhi
CATEGORIES:Vocal Recitals
LOCATION:Mazda Hall\, Sardar Dastur Hoshang Boys High School\, Pune\, India
GEO:18.5198845;73.87824479999995
X-APPLE-STRUCTURED-LOCATION;VALUE=URI;X-ADDRESS=Sardar Dastur Hoshang Boys 
 High School\, Pune\, India;X-APPLE-RADIUS=100;X-TITLE=Mazda Hall:geo:18.51
 98845,73.87824479999995
END:VEVENT
END:VCALENDAR