BEGIN:VCALENDAR
VERSION:2.0
PRODID:-//wp-events-plugin.com//7.1.7//EN
BEGIN:VEVENT
UID:172@poonamusic.com
DTSTART:19930301T131500Z
DTEND:19930301T153000Z
DTSTAMP:20150219T174559Z
URL:https://poonamusic.com/events/ajay-chakraborty-vocal-budhaditya-mukher
 jee-sitar-2/
SUMMARY:Ajay Chakraborty\, vocal / Budhaditya Mukherjee\, sitar
DESCRIPTION:
CATEGORIES:Indian music and dance
LOCATION:Concert Hall\, St. Vincent's \, Pune\, Maharashtra\, 411001\, Indi
 a
GEO:18.5127407;73.87542639999992
X-APPLE-STRUCTURED-LOCATION;VALUE=URI;X-ADDRESS=St. Vincent's \, Pune\, Mah
 arashtra\, 411001\, India;X-APPLE-RADIUS=100;X-TITLE=Concert Hall:geo:18.5
 127407,73.87542639999992
END:VEVENT
END:VCALENDAR