BEGIN:VCALENDAR
VERSION:2.0
PRODID:-//wp-events-plugin.com//7.1.7//EN
BEGIN:VEVENT
UID:257@poonamusic.com
DTSTART:20020913T131500Z
DTEND:20020913T153000Z
DTSTAMP:20150302T203426Z
URL:https://poonamusic.com/events/alberto-lysy-violin-mehroo-jeejeebhoy-pi
 ano/
SUMMARY:Alberto Lysy\, violin / Mehroo Jeejeebhoy\, piano
DESCRIPTION:Alberto Lysy\, violin / Mehroo Jeejeebhoy\, piano in associatio
 n with the HSBC Bank
CATEGORIES:Violin and piano recitals
LOCATION:Mazda Hall\, Sardar Dastur Hoshang Boys High School\, Pune\, India
GEO:18.5198845;73.87824479999995
X-APPLE-STRUCTURED-LOCATION;VALUE=URI;X-ADDRESS=Sardar Dastur Hoshang Boys 
 High School\, Pune\, India;X-APPLE-RADIUS=100;X-TITLE=Mazda Hall:geo:18.51
 98845,73.87824479999995
END:VEVENT
END:VCALENDAR