BEGIN:VCALENDAR
VERSION:2.0
PRODID:-//wp-events-plugin.com//7.1.7//EN
BEGIN:VEVENT
UID:1563@poonamusic.com
DTSTART:20220227T180000Z
DTEND:20220227T180000Z
DTSTAMP:20220324T125318Z
URL:https://poonamusic.com/events/alessandra-ammara-piano-online-concert/
SUMMARY:Alessandra Ammara\, piano online concert
DESCRIPTION:Alessandra Ammara\, piano\n\nProgramme: Chopin: 24 Preludes Op.
  28\n\nChopin's 24 Preludes are a cornerstone of the piano repertory.\n\nI
 talian pianist Alessandra Ammara has performed all over the world and has 
 made several recordings.\n\nHer astute musicianship has made her a sought 
 after teacher and she often joins her husband Roberto Prosseda in duo reci
 tals.\n\nIn this film\, Ammara brings her musical insights to these pieces
  in a recital from the beautiful Palazzo Chigi Saracini in Ariccia.\n\nThi
 s film will be available for a few weeks.\n\n
ATTACH;FMTTYPE=image/jpeg:https://poonamusic.com/pms_wp/wp-content/uploads
 /2019/07/Alessandra-Ammara-crop12.jpg
CATEGORIES:Online Concert
LOCATION:https://poonamusic.com/streams/
END:VEVENT
END:VCALENDAR