BEGIN:VCALENDAR
VERSION:2.0
PRODID:-//wp-events-plugin.com//7.1.7//EN
BEGIN:VEVENT
UID:1125@poonamusic.com
DTSTART:20050108T131500Z
DTEND:20050108T153000Z
DTSTAMP:20150219T175343Z
URL:https://poonamusic.com/events/all-india-voice-festival-competition-adj
 udicators-deirdre-lobo-patricia-panton-and-dr-eddie-khambata-2/
SUMMARY:All India Voice Festival / Competition - Adjudicators: Deirdre Lobo
 \, Patricia Panton and Dr. Eddie Khambata
DESCRIPTION:
CATEGORIES:Festivals
LOCATION:Mazda Hall\, Sardar Dastur Hoshang Boys High School\, Pune\, India
GEO:18.5198845;73.87824479999995
X-APPLE-STRUCTURED-LOCATION;VALUE=URI;X-ADDRESS=Sardar Dastur Hoshang Boys 
 High School\, Pune\, India;X-APPLE-RADIUS=100;X-TITLE=Mazda Hall:geo:18.51
 98845,73.87824479999995
END:VEVENT
END:VCALENDAR