BEGIN:VCALENDAR
VERSION:2.0
PRODID:-//wp-events-plugin.com//7.1.7//EN
BEGIN:VEVENT
UID:1543@poonamusic.com
DTSTART:20210509T180000Z
DTEND:20210509T180000Z
DTSTAMP:20210506T101926Z
URL:https://poonamusic.com/events/amando-ma-non-troppo-online-concert/
SUMMARY:Amando ma non troppo online concert
DESCRIPTION:Amando ma non troppo – Timeless joy and torments\n\nMarina de
  Liso\, mezzo soprano \nNicola Dal Maso\, basso continuo\nRoberto Loreggia
 n\, harpsichord\n\nIn association with Italian Embassy Cultural Centre\, M
 umbai\n\nProgramme: Benedetto Ferrari: Amanti io vi so dire\; Barbara Stro
 zzi: Lamento\; Giovanni Felice Sances: Usurpator tiranno\; Girolamo Fresco
 baldi: Partite sopra il Passacagli\, Se l’aura spira\; Barbara Strozzi: 
 Tradimento\, Che si può fare and Claudio Monteverdi: Ohimè ch’io cado 
 and Sì dolce è’l tormento\n\nThis programme of Baroque music makes a u
 nique appearance in the series Io Suono Italiano.\n\nWe may not have heard
  of these composers\, but they were very important in their time. Ferrari 
 was a lute player\, libretist and a composer of opera Barbara Strozzi was 
 a famous singer who also composed her own songs. Way ahead of her time in 
 the 17th century\, she composed and published her own music without help f
 rom the Curch or Patrons.\n\nSances was a singer and composer\, famous dur
 ing his time\, having composed much sacred and secular music. The other tw
 o composers\, Frescobaldi and Monteverdi enjoy greater popularity\, and th
 eir music is heard and performed very much today in concert halls and on r
 ecordings.\n\nMarina de Liso\, Studied in Rovigo and then went on to Milan
  to study Renaissance and Baroque singing. She has appeared with some of t
 he leading orchestras\, conductors and opera festivals across Europe. She 
 is a laureate of the Toti Dal Monte competition and the As.Li.Co. Competit
 ion in Milan\, two of the most important singing competitions in Italy.\n\
 nNicola Dal Maso studied double bass in Venice and from an early age was i
 nterested in early music. He has performed with the most accomplished cond
 uctors and groups of early music during his career. Currently\, he is expl
 oring Romantic double bass repertoire.\n\nRoberto Loreggian studied harpsi
 chord under Ton Koopman in the Hague. Having great experience as a harpsic
 hordist all over Europe\, he has made numberous prize winning recordings. 
 An anthology of keyboard music of Frescobaldi\, Gabrieli\, Handel and Conc
 ertos of Galuppi are amongst his discography.\n\nThis film will be availab
 le for a few weeks.\n\n\n\n
ATTACH;FMTTYPE=image/jpeg:https://poonamusic.com/pms_wp/wp-content/uploads
 /2021/04/Photo-Dal_Maso1.jpg
CATEGORIES:Online Concert
LOCATION:https://poonamusic.com/streams/
END:VEVENT
END:VCALENDAR