BEGIN:VCALENDAR
VERSION:2.0
PRODID:-//wp-events-plugin.com//7.1.7//EN
BEGIN:VEVENT
UID:1522@poonamusic.com
DTSTART:20200712T180000Z
DTEND:20200712T180000Z
DTSTAMP:20200926T104539Z
URL:https://poonamusic.com/events/amatis-trio-online-concert-2/
SUMMARY:Amatis Trio online concert
DESCRIPTION:Lea Hausmann\, violin\; Samuel Shepherd\, cello\; Mengjie Han\,
  piano\n\nIn association with Goethe Institute\, Max Mueller Bhavan\, Pune
  and Alliance Française de Pune\n\nIn a programme of Liszt: Tristia - Val
 lée d’Obermann (arr. for Piano trio) and Fauré: Après un rêve\n\nThe
  Amatis Trio is considered as one of the leading piano trios among the new
  generation. Between 2016 - 2018 the Amatis Trio were selected by BBC Radi
 o 3 on to the BBC New Generation Artists scheme. In Spring 2020\, the Amat
 is were awarded a Fellowship from the Borletti-Buitoni Trust at the same t
 ime that their debut disc on the AVI label was released featuring works of
  Enescu\, Britten and Ravel. Since their plan to travel to India this year
  could not materialise\, they have managed to send us some films of concer
 ts recorded behind closed doors.\n\nPlease follow the link: http://poonamu
 sic.com/streams/\n\n\n\n&nbsp\; 
ATTACH;FMTTYPE=image/jpeg:https://poonamusic.com/pms_wp/wp-content/uploads
 /2020/06/Amatis-Trio1.jpg
CATEGORIES:Online Concert
LOCATION:https://poonamusic.com/streams/
END:VEVENT
END:VCALENDAR