BEGIN:VCALENDAR
VERSION:2.0
PRODID:-//wp-events-plugin.com//7.1.7//EN
BEGIN:VEVENT
UID:1525@poonamusic.com
DTSTART:20200809T180000Z
DTEND:20200809T180000Z
DTSTAMP:20200926T110005Z
URL:https://poonamusic.com/events/amatis-trio-online-concert-3/
SUMMARY:Amatis Trio online concert
DESCRIPTION:Lea Hausmann\, violin\; Samuel Shepherd\, cello\; Mengjie Han\,
  piano\n\nIn association with Goethe Institute\, Max Mueller Bhavan\, Pune
  and Alliance Française de Pune\n\nIn a programme of Mozart: Piano Trio N
 o. 5 in C major\, K 548 and Debussy: Piano Trio in G Major (Mov. 3)\n\nThe
  Amatis Trio was founded in Amsterdam in 2014 by German violinist Lea Haus
 mann\, British cellist Samuel Shepherd and Dutch/Chinese pianist Mengjie H
 an. Their outstanding ability has gained them recognition as one of the le
 ading piano trios among the new generation.\n\nBetween 2016 - 2018 the Ama
 tis Trio were selected by BBC Radio 3 for the BBC New Generation Artists s
 cheme\, and in 2018 they were part of the\nVerbier Festival Academy in Swi
 tzerland. Other prize-winning accolades include the biggest chamber music 
 prize of the Netherlands\, the Kersjesprijs\;\nthe 2018 Melbourne Internat
 ional Chamber Music Competition and in Spring 2020 the Amatis were awarded
  a Fellowship from the Borletti-Buitoni Trust.\n\n\n\nPlease follow the li
 nk: http://poonamusic.com/streams/\n\n&nbsp\; 
ATTACH;FMTTYPE=image/jpeg:https://poonamusic.com/pms_wp/wp-content/uploads
 /2020/06/Amatis-Trio1.jpg
CATEGORIES:Online Concert
LOCATION:https://poonamusic.com/streams/
END:VEVENT
END:VCALENDAR