BEGIN:VCALENDAR
VERSION:2.0
PRODID:-//wp-events-plugin.com//7.1.7//EN
BEGIN:VEVENT
UID:1521@poonamusic.com
DTSTART:20200621T180000Z
DTEND:20200621T180000Z
DTSTAMP:20200926T103039Z
URL:https://poonamusic.com/events/amatis-trio-online-concert/
SUMMARY:Amatis Trio online concert
DESCRIPTION:Lea Hausmann\, violin\; Samuel Shepherd\, cello\; Mengjie Han\,
  piano\n\nIn association with Goethe Institute\, Max Mueller Bhavan\, Pune
  and Alliance Française de Pune\n\nIn a programme of Beethoven: Piano Tri
 o Op. 11 in B flat major\n\nThe Amatis Trio was founded in Amsterdam in 20
 14 by German violinist Lea Hausmann\, British cellist Samuel Shepherd and 
 Dutch/Chinese pianist Mengjie Han. During the 2019-20 season\, the Trio pe
 rformed\, or was booked to perform in Europe's major concert halls\, inclu
 ding Elbphilharmonie Hamburg\, Wigmore Hall\, Konzerthaus Dortmund\, Philh
 armonie Cologne\, Vienna's Konzerthaus\, Berlin Philharmonie\, Philharmoni
 e Paris\, and also at Mazda hall in Pune. Unfortunately\, due to the curre
 nt pandemic crisis\, their India tour is postponed. As a special gesture\,
  Amatis trio have recorded this performance at the big hall of Mozarteum i
 n Salzburg for us to enjoy.\n\nPlease follow the link: http://poonamusic.c
 om/streams/\n\n
ATTACH;FMTTYPE=image/jpeg:https://poonamusic.com/pms_wp/wp-content/uploads
 /2020/06/Amatis-Trio1.jpg
CATEGORIES:Online Concert
LOCATION:https://poonamusic.com/streams/
END:VEVENT
END:VCALENDAR