BEGIN:VCALENDAR
VERSION:2.0
PRODID:-//wp-events-plugin.com//7.1.7//EN
BEGIN:VEVENT
UID:1557@poonamusic.com
DTSTART:20211128T180000Z
DTEND:20211128T180000Z
DTSTAMP:20211204T033653Z
URL:https://poonamusic.com/events/ambre-vuillermoz-accordion-online-concer
 t/
SUMMARY:Ambre Vuillermoz\, accordion online concert
DESCRIPTION:From Inventio Festival\nAmbre Vuillermoz\, accordion\n\nProgram
 me: Bach: Goldberg Variations\n\nJohann Sebastian Bach\, Goldberg Variatio
 ns arranged for accordion.\n\nIn a green and serene setting of 150 hectare
 s ...\n\nThis concert\, unveils an accordion arrangement of the “Goldber
 g Variations” by the performer\, Ambre Vuillermoz\, who is one of the mo
 st committed and the most talented of her generation.\n\nShe has won the 1
 st Prize of the Zonta Music Competition clubs in France\, and is also supp
 orted by the “Deutschland Stipendium” scholarship and Laureate of the 
 Banque Populaire Foundation.\n\nThis film will be available for a few week
 s.\n\n
ATTACH;FMTTYPE=image/jpeg:https://poonamusic.com/pms_wp/wp-content/uploads
 /2021/11/Ambre-Vuillermoz.png
CATEGORIES:Online Concert
LOCATION:https://poonamusic.com/streams/
END:VEVENT
END:VCALENDAR