BEGIN:VCALENDAR
VERSION:2.0
PRODID:-//wp-events-plugin.com//7.1.7//EN
BEGIN:VEVENT
UID:1529@poonamusic.com
DTSTART:20201011T180000Z
DTEND:20201011T180000Z
DTSTAMP:20201009T110706Z
URL:https://poonamusic.com/events/amit-peled-and-ismael-guerrero-cellos-on
 line-concert/
SUMMARY:Amit Peled and Ismael Guerrero\, cellos\, online concert
DESCRIPTION:Amit Peled\, cello\nIsmael Guerrero\, cello\n\nIn association w
 ith Goethe Institute\, Max Mueller Bhavan\, Pune and Alliance Française d
 e Pune\n\nIn a programme of John Williams: Theme from Schindler’s List f
 or Two Cellos\; J. S. Bach: Cello Suite No. 4 in E-flat Major BWV 1010\nLu
 igi Boccherini: Sonata for Two Cellos in C Major G74\; Gaspar Cassado: Son
 ata Nello Stile Antico Spagnuolo (arr. for two cellos by Peled-Guerrero) a
 nd Leonard Cohen-George David Weiss: Hallelujah-What a Wonderful World (ar
 r. by Brett Howland)\n\n[caption id="attachment_13272" align="alignleft" w
 idth="241"] Photo: LisaMarieMazzucco[/caption]\n\nIsraeli-American cellist
 \, conductor\, and professor at Peabody Conservatory\, Amit Peled\, is a m
 usician of profound artistry and charismatic stage presence. He is acclaim
 ed as one of the most exciting and virtuosic instrumentalists\, who always
  strives to break down the barriers of the concert hall. At 6' 5" tall\, P
 eled started life as a basketball player and was called "larger than life"
  and "Jacqueline du Pré in a farmer's body" when he enveloped his cello. 
 From 2012 through 2018\, Peled performed on the Pablo Casals 1733 Goffrill
 er cello\, which was loaned to him personally by Casals’ widow\, Marta C
 asals Istomin.\n\nAmit has filmed this concert in the studio of his sister
 \, sculptor Zemer Peled. Originally created for the Casals Festival of Pue
 rto Rico\, it is entitled “Dancing With Sculptures” and incorporates Z
 emer’s amazing sculptures.\n\nThe screening will be available till Frida
 y 16th October.\n\n\n\n
ATTACH;FMTTYPE=image/jpeg:https://poonamusic.com/pms_wp/wp-content/uploads
 /2020/09/Amit-Peled-crop.jpg
CATEGORIES:Online Concert
LOCATION:https://poonamusic.com/streams/
END:VEVENT
END:VCALENDAR