BEGIN:VCALENDAR
VERSION:2.0
PRODID:-//wp-events-plugin.com//7.1.7//EN
BEGIN:VEVENT
UID:1576@poonamusic.com
DTSTART:20220717T180000Z
DTEND:20220717T180000Z
DTSTAMP:20230225T135327Z
URL:https://poonamusic.com/events/an-oboe-in-the-choro-online-concert/
SUMMARY:An Oboe in the Choro\, online concert
DESCRIPTION:An Oboe in the Choro\n\nHarold Emert\, an American – Brazilia
 n oboist who visited Pune in February 1987\, has rediscovered The Poona Mu
 sic Society and shares some of his concert films with us.\n\nHis latest of
 fering An Oboe in the Choro\, is of a unique concert he did with Choro mus
 icians at the Magistrates' Museum in Rio de Janeiro.\nChoro which in Portu
 guese means Cry or Lament\, originated in Rio de Janeiro in the 19th centu
 ry\, and can be described as the New Orleans Jazz of Brazil. Even though i
 t is joyous music\, it is called Choro because of the style of playing whi
 ch has slides and portamenti reminiscent of wailing. In this concert\, Har
 old Emert plays oboe with guitar\, ukulele and tambourine.\n\nDo enjoy thi
 s unique concert.\n\n\n\n&nbsp\;
ATTACH;FMTTYPE=image/jpeg:https://poonamusic.com/pms_wp/wp-content/uploads
 /2022/06/Harold-Emert-2.jpg
CATEGORIES:Online Concert
LOCATION:https://poonamusic.com/streams/
END:VEVENT
END:VCALENDAR