BEGIN:VCALENDAR
VERSION:2.0
PRODID:-//wp-events-plugin.com//7.1.7//EN
BEGIN:VEVENT
UID:412@poonamusic.com
DTSTART:19990912T131500Z
DTEND:19990912T153000Z
DTSTAMP:20150302T203420Z
URL:https://poonamusic.com/events/andrew-lloyd-webber-requeim-the-very-bes
 t-of-andrew-lloyd-webber/
SUMMARY:Andrew Lloyd Webber: Requeim / The very best of Andrew Lloyd Webber
DESCRIPTION:Andrew Lloyd Webber: Requeim / The very best of Andrew Lloyd We
 bber
CATEGORIES:Video screenings
LOCATION:Concert Hall\, St. Vincent's \, Pune\, Maharashtra\, 411001\, Indi
 a
GEO:18.5127407;73.87542639999992
X-APPLE-STRUCTURED-LOCATION;VALUE=URI;X-ADDRESS=St. Vincent's \, Pune\, Mah
 arashtra\, 411001\, India;X-APPLE-RADIUS=100;X-TITLE=Concert Hall:geo:18.5
 127407,73.87542639999992
END:VEVENT
END:VCALENDAR