BEGIN:VCALENDAR
VERSION:2.0
PRODID:-//wp-events-plugin.com//7.1.7//EN
BEGIN:VEVENT
UID:1504@poonamusic.com
DTSTART:20191203T133000Z
DTEND:20191203T133000Z
DTSTAMP:20200105T183909Z
URL:https://poonamusic.com/events/anna-lipiak-piano/
SUMMARY:Anna Lipiak\, piano
DESCRIPTION:In association with Consulate General of the Republic of Poland
  in Mumbai\n\nIn a programme of Frédéric Chopin: Nocturne in C sharp min
 or Op. posth.\, Etude in C sharp minor Op. 10 No. 4\, Etude in A Minor Op.
  10 No. 2\, Nocturne Op. 55 No. 2 in E flat major\, Rondo Op. 16\, 3 Valse
 s Op. 34 and Ballade Op. 47&nbsp\;&nbsp\;\n\n[caption id="attachment_11807
 " align="alignleft" width="383"] Anna Lipiak pianist[/caption]\n\n"Her pla
 ying was marked by a beautiful sound and phrasing\, a sense of confidence 
 and natural poetic musicality" Giornale di Brescia\, newspaper (Italy)\n\n
 Anna Lipiak is considered as one of the most talented Polish pianists of t
 he young generation. Admired for her poetic musicality\, beautiful tone an
 d a sense of freedom on stage\, her talent was discovered very early\, whe
 n at the age of 5 she was introduced to the piano. She has already perform
 ed more than 130 piano recitals in 13 countries on 2 continents: Asia and 
 Europe. She has appeared also in Poland at such prestigious concert halls 
 as: The National Philharmonic Hall in Warsaw\, The Pomeranian Philharmonic
  Hall in Bydgoszcz\, The National Music Forum in Wrocław\, The Frederic C
 hopin Museum\, Warsaw\, The Frederic Chopin Manor House\, Duszniki Zdrój\
 , The Auschwitz Culture Centre\, The Pomeranian Dukes' Castle and others.\
 n\nAnna has claimed top prizes at 20 international piano competitions\, in
 cluding 1st prizes in Italy: (Padua 2016\, Piove di Sacco 2014\, Gussago\,
  Brescia 2013)\, Poland (Krakow 2013)\, Slovakia (Ruzomberok 2012)\, the 2
 nd prize in Croatia (Karlovac 2015)\, the 3rd prize in Germany (Görlitz 2
 011\, 2010)\, the 4th prize in France (Montrond les Bains 2013). She was a
 lso a finalist at the Chopin National Piano Competition in Warsaw - Poland
  (2013) and the International "Fausto Zadra" Piano Competition in Abano Te
 rme in Italy (2018).\n\nIn 2018 she graduated from the Music Academy in By
 dgoszcz in the class of professor Katarzyna Popowa-Zydron and Jerzy Suliko
 wski. From 2010-2016 she was studying with Grzegorz Niemczuk\, one of the 
 most active Polish pianists.\n\nIn 2018\, Lipiak performed Liszt Piano Con
 certo no.1 in E flat major in the Pomeranian Philharmonic Hall in Bydgoszc
 z conducted by Michal Dworzynski. In 2015 she performed the piano recital 
 on the 49th Festival of the Polish Pianism in Slupsk. In 2016 she had a co
 ncert tour in Italy.\n\nIn 2017 Anna Lipiak became a laureate of the prest
 igious scholarship programme "Young Poland" granted by the Minister of Cul
 ture and National Heritage. The same year she was honoured to receive the 
 Student Nobel Prize for the best student of art in Poland. She also receiv
 ed scholarships from: the Marshal of the province Pomerania (2018)\, Yamah
 a Music Vietnam (2018)\, the Minister of Science and Higher Education in P
 oland(2012\, 2013\, 2015)\, President of the Silesian University for outst
 anding artistic achievements (2012-2015) and Association of Support Talent
 ed Youth in Zgorzelec (2006).\n\n\n\n&nbsp\;\n\n
ATTACH;FMTTYPE=image/jpeg:https://poonamusic.com/pms_wp/wp-content/uploads
 /2019/11/AnnaLipiakpianistcrop.jpg
CATEGORIES:Piano recitals
LOCATION:Mazda Hall\, Sardar Dastur Hoshang Boys High School\, Pune\, India
GEO:18.5198845;73.87824479999995
X-APPLE-STRUCTURED-LOCATION;VALUE=URI;X-ADDRESS=Sardar Dastur Hoshang Boys 
 High School\, Pune\, India;X-APPLE-RADIUS=100;X-TITLE=Mazda Hall:geo:18.51
 98845,73.87824479999995
END:VEVENT
END:VCALENDAR