BEGIN:VCALENDAR
VERSION:2.0
PRODID:-//wp-events-plugin.com//7.1.7//EN
BEGIN:VEVENT
UID:1482@poonamusic.com
DTSTART:20181218T133000Z
DTEND:20181218T133000Z
DTSTAMP:20181209T113019Z
URL:https://poonamusic.com/events/anna-tanvir-voice-and-celtic-harp-and-ma
 ninder-singh-voice-and-guitar/
SUMMARY:Anna Tanvir\, voice and harp and Maninder Singh\, voice and guitar
DESCRIPTION:Anna Tanvir\, voice and celtic harp and Maninder Singh\, voice 
 and guitar\n\nIn a programme of Folk songs from around the world\n\nAnna T
 anvir and Maninder Singh have recently formed a duo of harp\, guitar and t
 wo voices.&nbsp\; They have arranged folk songs from around the world in s
 ix or seven different languages\, in different rhythms and musical combina
 tions to create a unique and original duo. They have been very wamly recei
 ved by the Indian audience\, recently receiving a standing ovation at Doon
  University. They will be performing at the prestigious Tansen Music Festi
 val in Gwalior at the end of this year.\n\n&nbsp\;Anna Tanvir is an except
 ional singer of Indian/Irish origin.&nbsp\; She accompanies herself on the
  Celtic harp\, performing all over the world in many different languages\,
  combining a classical technique with a traditional sound. Her repertoire 
 is a mix of traditional melodies and her own compositions reflecting her m
 ixed cultural heritage and transcending the barriers of nation and languag
 e by recounting universally relevant stories of life and love.\n\nHer nota
 ble past performances include: Un Été à Bourges\, France (every year fr
 om 1998 to present)\; Mick Jagger’s private birthday party\, Amboise 201
 0\, France\; Château de Chambord and Cathédrale de Bourges\, 2010\, Fran
 ce\; Olympia\, Paris as guest of Erick Manana 2009\, France\; Le Café de 
 la Danse\, Divan du monde\, and New Morning\, Paris\; Virasat Festival Deh
 radun\, and Amir Khan Samaroh\, Indore\; India International Centre\, New 
 Delhi\; Akshara Theatre\, New Delhi\; Poona Music Society\; Little Theatre
 \, NCPA\, Mumbai and GyanManch\, Kolkata.\n\n'The rich timbre in her voice
  and her magnificent singing style while playing on the Celtic harp shows 
 that she was born to sing' - The Hindu\n\n'Anna sings magnificently and pl
 ays the harp with unbelievable melody and expression creating a lyrical an
 d soul-stirring musical experience' - The Indian Express\n\nManinder Singh
  is a bass player\, guitarist and vocalist in many different musical genre
 s. He is currently teaching World music at Kasiga School\, Dehradun. His l
 ive performances include a duo with singer/harpist Anna Tanvir\, performan
 ce with Edward Maya\, a Live Fusion Workshop with Ustad Khalid Khan Sitar 
 Maestro\, performance with well-known bands such as The Ensemble and Corsa
 ir. He maintains an active varied schedule of live performances with many 
 different acts\; in recording studios\, cafes\, clubs\, theaters\, festiva
 ls\, concert halls\, schools and restaurants. Over the years\, Maninder ha
 s developed a very good reputation as a reliable\, talented and versatile 
 bass player and an all-round musician. His other interests are developing 
 and giving classes and clinics on a variety of music-related topics. His a
 ctivities include extensive teaching\, performing “Band Consultations”
 \, hosting jams\, and running “Band Foundries”. Conducting various sch
 ool operas and choirs. He has recorded albums\, demos\, jingles at a wide 
 variety of studios. He has had acquaintance with other instruments like gu
 itar\, bass\, drums\, djembe\, cajon and voice. His interests are playing 
 live music\, travelling and passion for fusion cooking.\n\n
ATTACH;FMTTYPE=image/jpeg:https://poonamusic.com/pms_wp/wp-content/uploads
 /2018/11/Anna-and-harpweb.jpg
CATEGORIES:Folk Music
LOCATION:Mazda Hall\, Sardar Dastur Hoshang Boys High School\, Pune\, India
GEO:18.5198845;73.87824479999995
X-APPLE-STRUCTURED-LOCATION;VALUE=URI;X-ADDRESS=Sardar Dastur Hoshang Boys 
 High School\, Pune\, India;X-APPLE-RADIUS=100;X-TITLE=Mazda Hall:geo:18.51
 98845,73.87824479999995
END:VEVENT
END:VCALENDAR