BEGIN:VCALENDAR
VERSION:2.0
PRODID:-//wp-events-plugin.com//7.1.7//EN
BEGIN:VEVENT
UID:1448@poonamusic.com
DTSTART:20180222T133000Z
DTEND:20180222T133000Z
DTSTAMP:20180219T113117Z
URL:https://poonamusic.com/events/ariana-vafadari-mezzo-soprano-group/
SUMMARY:GATHAS : Songs my Father taught me
DESCRIPTION:Ariana Vafadari\, mezzo soprano\nLeila Soldevila\, double bass\
 nHaroun Teboul\, oud\, ney\, tanbur\nTarit Pal\, percussions\n\nIn associa
 tion with Alliance Francaise de Pune.\n\nProgramme: Ahang Zayesh\, Tale of
  Innocence\, Lalai\, Burning Dance\,&nbsp\; Haunting Melody\, Bird of Ligh
 t and Psand\,\n\nAriana Vafadari is of Iranian origin who sings in the anc
 ient Zoroastrian gathic language. Gathas are hymns of Zoroastrianism\, the
  religion of Ancient Persia. These poems from the prophet Zarathustra date
  from about 1700 BC and are surprisingly modern\, expressing the life\, do
 ubts and choices of a man. Ariana and her musicians have a common trait\, 
 they unremittingly stretch musical boundaries\, in perfect continuity with
  their cultural and musical backgrounds\, they were trained by traditional
  Iranian\, Ottoman and Moroccan music\, jazz\, Western classical music or 
 opera\, switching from one world to the next.\n\n\n\n
ATTACH;FMTTYPE=image/jpeg:https://poonamusic.com/pms_wp/wp-content/uploads
 /2018/02/Ariana-Vafadari-Portrait11.jpg
CATEGORIES:Vocal Recitals
LOCATION:Mazda Hall\, Sardar Dastur Hoshang Boys High School\, Pune\, India
GEO:18.5198845;73.87824479999995
X-APPLE-STRUCTURED-LOCATION;VALUE=URI;X-ADDRESS=Sardar Dastur Hoshang Boys 
 High School\, Pune\, India;X-APPLE-RADIUS=100;X-TITLE=Mazda Hall:geo:18.51
 98845,73.87824479999995
END:VEVENT
END:VCALENDAR