BEGIN:VCALENDAR
VERSION:2.0
PRODID:-//wp-events-plugin.com//7.1.7//EN
BEGIN:VEVENT
UID:253@poonamusic.com
DTSTART:20000213T131500Z
DTEND:20000213T153000Z
DTSTAMP:20150302T203426Z
URL:https://poonamusic.com/events/armene-stakian-violin-daniel-spiegelberg
 -piano/
SUMMARY:Armene Stakian\, violin / Daniel Spiegelberg\, piano
DESCRIPTION:Armene Stakian\, violin / Daniel Spiegelberg\, piano
CATEGORIES:Violin and piano recitals
LOCATION:Concert Hall\, St. Vincent's \, Pune\, Maharashtra\, 411001\, Indi
 a
GEO:18.5127407;73.87542639999992
X-APPLE-STRUCTURED-LOCATION;VALUE=URI;X-ADDRESS=St. Vincent's \, Pune\, Mah
 arashtra\, 411001\, India;X-APPLE-RADIUS=100;X-TITLE=Concert Hall:geo:18.5
 127407,73.87542639999992
END:VEVENT
END:VCALENDAR