BEGIN:VCALENDAR
VERSION:2.0
PRODID:-//wp-events-plugin.com//7.1.7//EN
BEGIN:VEVENT
UID:1475@poonamusic.com
DTSTART:20181125T130000Z
DTEND:20181125T130000Z
DTSTAMP:20190313T002338Z
URL:https://poonamusic.com/events/arties-festival-10/
SUMMARY:Arties festival - 22nd edition
DESCRIPTION:Mathilde Borsarello Herrmann\, violin\nAlix Catinchi\, violin\n
 Cécile Grassi\, viola\nGauthier Herrmann\, cello\nJean-Michel Dayez\, pia
 no\n\nIn association with Alliance Francaise de Pune\n\nIn a programme of 
 Dvořák: Piano quartet no. 2 Op. 87\; Beethoven: Variations for piano tri
 o Op. 44 and Shostakovich: Piano quintet Op. 57\n\n[caption id="attachment
 _9894" align="alignleft" width="222"] Mathilde Borsarello-Herrman[/caption
 ]\n\nMathilde Borsarello Herrmann’s true mother tongue is Music! A total
  immersion from childhood\, a vocation of course\, but above all a passion
 . A prize- winner atthe prestigious Marguerite Long - Jacques Thibaud comp
 etition in 2010\, Mathilde puts her talent at the service of music in all 
 its forms. Violin\, piano\, voice\, sonata\, trio\, quartet\, teaching\, o
 rchestra\, it is with appetite that she devours a wide repertoire ranging 
 from J.S Bach to Arvo Pärt. From her beginnings at the CNR in Paris to he
 r 2 graduate degrees at the CNSMDP\, she has a deep appreciation for those
  who have shaped her musical identity\, Suzanne Gessner\, Patrice Fontanar
 osa\, Jean-Jacques Kantorow and Roland Daugareil in violin as well as Paul
  Boufil\, Pierre-Laurent Aimard\, Alain Meunier\, Maurice Bourgue and Marc
  Coppey in chamber music.\n\nHer passion for chamber music led her to perf
 orm with partners such as Gautier Capuçon\, Gérard Caussé\, the Ebène 
 quartet\, Roland Daugareil\, Henri Demarquette\, Romain Descharmes\, Olivi
 er Patey\, Shani Diluka. With the perfectionism that characterizes her\, M
 athilde wanted to explore in depth the repertoire of the piano trio by cre
 ating in 2002 the Trio Estampe with pianist Claudine Simon and cellist Car
 oline Boita. Supported by the Meyer Foundation\, they record a CD "young s
 oloist" in 2010\, then in 2012 an album around the trio opus 5 of Max Bruc
 h for the label Artie's Records\, distribution Harmonia Mundi.\n\nFor this
  insatiable music\, to deprive oneself of the symphonic repertoire was unt
 hinkable. Mathilde was a member of the Orchestre National de France from 2
 007 to 2017 under the direction of Maestro Daniele Gatti. During these 8 y
 ears in this formation\, she had the opportunity to play in the most prest
 igious halls (Amsterdam\, London\, New York\, Vienna ...) and to be direct
 ed by\, among others\, Maestros Mazur\, Muti\, Ozawa\, Jaarvi\, Sokhiev\, 
 Bishkov\, Haitink in repertoires as varied as they are complete. Her violi
 n\, by the Italian luthier Riccardo Genovese (1931)\, follows in all her a
 dventures.\n\nEager to constantly vary her field of musical experiences\, 
 Alix Catinchi performs both in various chamber music ensembles\, as well a
 s in major national orchestras. Chamber musician emeritus\, Alix brings it
 s freshness and enthusiasm to the heart of multiple formations such as the
  Trio Altae\, the quartet Metaboles (concert on the occasion of the festiv
 al Jazz In Marciac this summer)\, the Orchestre de Chambre de&nbsp\; Franc
 e\, not to mention atypical projects (Theatrical creation in piano trio "T
 he Big Grande Musique" this end of the year).&nbsp\;Her passion for sympho
 nic music makes her a member with the Radio France Philharmonic Orchestra\
 , the National Orchestra of France\, the National Orchestra of Île de Fra
 nce\, the National Orchestra of the Capitole de Toulouse\, in France and a
 broad (Russia\, Austria\, Germany\, Eastern Europe\, China\, Japan).\n\nTr
 ained at the CRR Lyon and then with Jean Lénert and Larissa Kolos at CRR 
 in Paris where she graduated brilliantly\, Alix has also obtained a master
 's degree in the class of Raphaël Oleg at the Basel Akademie. She also st
 udied Baroque violin at the Schola Cantorum.\n\nCécile Grassi graduated f
 rom the Conservatoires of Nice and Paris and returned to the National Cons
 ervatory of Music and Dance in Lyon where she won the 1st Prize in 1999 in
  the class of Tasso Adamopoulos.&nbsp\;She soon turned to chamber music an
 d in 1997 she founded the Psophos Quartet with which she won the fourth pr
 ize in the London International Competition\, the third prize in the Osaka
  international competition and the second prize in the Vittorio competitio
 n. In 2001\, this course was crowned by obtaining the 1st Grand Prix of th
 e International String Quartet Competition in Bordeaux.&nbsp\;\n\nCécile
 ’s curiosity drives her to meet new artists\, dancers\, actors\, directo
 rs (Philippe Decouflé\, Christophe Malavoy\, Marie-Nicole Lemieux\, Jean-
 Marie Machado\, Dave Liebman ...). Each meeting gives birth to a show\, a 
 record\, and beautiful tours. In 2014\, Cécile Grassi also joined the Art
 ie's musicians' collective\, with whom she shares her passion for chamber 
 music and the taste for traveling.\n\nTraveller\, entrepreneur\, explorer\
 , Gauthier Herrmann is not your typical musician.A passionate cello player
  with a focus on chamber music\, founder and director of Artie’s\, Gauth
 ier has travelled the world for ten years in the company of his family and
  Artie’s joyful musicians\; artists united by their repertoire and their
  loyalty to each other. &nbsp\;\n\nHis focus and determination have led hi
 m to be held in high regard on the classical musical circuit.&nbsp\; He ha
 s received high awards (with the Trio con Fuoco) and acclaim at the Floren
 ce\, Heerlen\, Illzach\, Vibrarte and Fnapec music competitions and he is 
 highly respected by leading musicians. In 2001\, Gauthier Herrmann discove
 red India. This trip gave birth to the Artie’s adventure\, a slightly cr
 azy project summed up by two words at the heart of modern day classical mu
 sic: family and enterprise.\n\n&nbsp\;Artie’s Festival’s development i
 s thanks to an entrepreneur who\, wanting to set-up a series of music conc
 erts\, sold his first cello\, to make possible the dream of bringing toget
 her two worlds previously seen as incompatible: classical music and India.
  Ten years\, 21 editions\, 14 cities\, 58 musicians\, 65 trips and more th
 an 40\,000 spectators later\, chamber music has found a home in India. Asi
 de from India\, Artie’s has played in China\, Saudi Arabia\, Kuwait\, Vi
 etnam\, Indonesia\, Kazakhstan\, Nepal and in Europe of course…\n\nTrain
 ed in Lille\, then at the Queen Elisabeth Music Chapel (Belgium) by Jean-C
 laude Vanden Eynden and at the National Conservatory of Music and Dance of
  Paris\, Jean-Michel Dayez thrives today on stage\, solo or in chamber mus
 ic. Winner of the Anvers International Competition\, Meyer and Emile Bernh
 eim Foundations\, he has since been involved in numerous musical projects.
  He is the pianist of the trio Leos founded in 2013 with which he currentl
 y recorded the complete trios of Beethoven (first volume published by Klar
 the). Member of the music collective Artie’s\, he multiplies the meeting
 s for more and more joys and musical adventures with concerts that lead hi
 m around the world.\n\nJean-Michel Dayez recorded with Xavier Gagnepain th
 e complete music for cello and piano by Fauré (Zig-Zag territories)\, the
  complete sonatas for cello and piano of Beethoven with Nicolas Deletaille
  (Contréclisse)\, a monographic disc of composer Vincent Paulet (Hortus)\
 , a record of melodies and songs with Philippe Balloy. Holder of the Certi
 ficate of Aptitude\, he teaches today in Lille\, at the Superior School of
  Arts of Mons (Belgium)\, and for more than ten years every summer at the 
 festival academy Les Arcs.\n\n
ATTACH;FMTTYPE=image/jpeg:https://poonamusic.com/pms_wp/wp-content/uploads
 /2018/10/JM_Dayez11.jpg
CATEGORIES:Festivals
LOCATION:Mazda Hall\, Sardar Dastur Hoshang Boys High School\, Pune\, India
GEO:18.5198845;73.87824479999995
X-APPLE-STRUCTURED-LOCATION;VALUE=URI;X-ADDRESS=Sardar Dastur Hoshang Boys 
 High School\, Pune\, India;X-APPLE-RADIUS=100;X-TITLE=Mazda Hall:geo:18.51
 98845,73.87824479999995
END:VEVENT
END:VCALENDAR