BEGIN:VCALENDAR
VERSION:2.0
PRODID:-//wp-events-plugin.com//7.1.7//EN
BEGIN:VEVENT
UID:1488@poonamusic.com
DTSTART:20190309T133000Z
DTEND:20190309T133000Z
DTSTAMP:20190313T002659Z
URL:https://poonamusic.com/events/arties-festival-11/
SUMMARY:Artie's festival - 23rd edition
DESCRIPTION:9th March\n\nClarisse Dalles\, soprano\nGauthier Herrmann\, cel
 lo\nMathilde Borsarello Herrmann\, violin\nJean-Michel Dayez\, piano\n\nIn
  a programme of Francesco Tosti: Ideale\, Fernando Obradors: Del Cabello M
 as Sutil\, Antonín Dvořák: Piano Trio ‘Dumky’ Op. 90 in E minor\, R
 achmaninoff: Elégie Op. 3 No. 1\, Arvo Pärt: Fratres\, Maurice Ravel: Ka
 ddish\, Richard Strauss: Morgen and Leonard Bernstein: Dream With Me\n\nIn
  association with Alliance Française de Pune\n\nBorn in 1995\, Clarisse D
 alles started studying music at the Regional Conservatory Versailles by le
 arning piano. At the age of 15\, she discovered singing when joining the M
 aîtrise de Radio France where she sang under such conductors as Mikko Fra
 nck\, Christoph Eschenbach\, Daniele Gatti\, René Jacobs\, Soﬁ Jeannin 
 and Christian Järvi. At the age of 18 she continued her studies at the De
 partment for Young Singers of the Regional Conservatory of Paris in Melani
 e Jackson’s class. There she had the opportunity to sing under the direc
 tion of Henri Chalet\, Geoffroy Jourdain\, Laurence Equilbey and Nathalie 
 Stutzmann. In June 2017\, she obtained her diploma and was accepted at the
  National Conservatory of Music and Dance of Paris (CNSMDP) where she stil
 l studies with vocal coach Valérie Guillorit\, as well as at the Philippe
  Jarrousky’s Music Academy.&nbsp\;\n\nIn 2015\, she made her operatic de
 but as Cecilia in Antonio Caldara’s Il Giuoco del Quadriglio\, under the
  direction of Jérôme Corréas\, and staged by Mireille Laroche at the P
 énich’Opéra. She then sang in Iphigénie en Tauride by Christoph Willi
 bald von Gluck with the Young artist programme of the Paris Opera (soloist
  of the Young Choir of Paris) at the Saint-Quentin-en-Yvelines Theater\, a
 s well as in the creation of Stéphane Michaka’s Alice et Merveilles wit
 h the Orchester National de France at the Auditorium of Radio France.\n\nS
 he was also asked to participate in numerous concerts and recitals\, notab
 ly with Philippe Jarrousky as part of his academy\, accompanied by the Art
 aserse ensemble and the Appassionato ensemble directed by Mathieu Herzog. 
 She also sang in October 2017 in recital on France Musique in the show Ga
 ëlle le Gallic Generation young performers.\n\nDuring the 2018/2019 seaso
 n\, she takes the part of Veronique\, in the Opérette of the same name by
  André Messager\, directed by Vincent Vittoz at the Théâtre de Bayonne 
 at the Ravel Festival. Then she will for a tour in different theaters in F
 rance. During this same season she is also Callisto in Giove in Argo by An
 tonio Lotti at the Grand Palais in Paris\, under the direction of Leonardo
  Garcia Alarcon. She was recently invited by the New Aquitaine Chamber Orc
 hestra to sing Gustav Mahler’s 4th symphony at the Grand Théâtre de Po
 itiers and the Philharmonie de Paris.\n\nClarisse is also passionate about
  lied and French melody\, a repertoire which she perfected with pianists A
 nne Le Bozec\, and Jeff Cohen. She recently won the Young Hope Award\, awa
 rded by the French Center for Lyric Promotion at the International Lieder 
 and Melodies Competition in Gordes.\n\nTraveller\, entrepreneur\, explorer
 \, Gauthier Herrmann is not your typical musician. Chamber musician\, Arti
 stic Director of Artie’s\, winner of the International competitions of H
 eerlen\, Firenze\, Illzach\, Paris. A passionate cello player with a focus
  on chamber music\, founder and director of “Artie’s”\, Gauthier has
  travelled the world for ten years in the company of his family and Artie
 ’s joyful musicians \; artists united by their repertoire and their loya
 lty to each other. &nbsp\;\n\n&nbsp\;His focus and determination have led 
 him to be held in high regard on the classical musical circuit.&nbsp\; He 
 has received high awards (with the Trio con Fuoco) and acclaim at the Flor
 ence\, Heerlen\, Illzach\, Vibrarte and Fnapec music competitions and he i
 s highly respected by leading musicians. In 2001\, Gauthier Herrmann disco
 vered India. This trip gave birth to the Artie’s adventure\, a slightly 
 crazy project summed up by two words at the heart of modern day classical 
 music : family and enterprise.\n\nArtie’s Festival’s development is th
 anks to an entrepreneur who\, wanting to set-up a series of music concerts
 \, sold his first cello\, to make possible the dream of bringing together 
 two worlds previously seen as incompatible: classical music and India. Ten
  years\, 21 editions\, 14 cities\, 58 musicians\, 65 trips and more than 4
 0\,000 spectators later\, chamber music has found a home in India. Aside f
 rom India\, Artie’s has played in China\, Saudi Arabia\, Kuweit\, Vietna
 m\, Indonesia\, Kazakhstan\, Nepal and in Europe of course…\n\nA Prize w
 inner of the prestigious Marguerite Long – Jacques Thibaud competition i
 n 2010\, Mathilde Borsarello Herrmann puts her talent at the service of mu
 sic in all its forms. Her true mother tongue … Music! A total immersion 
 from childhood\, a vocation of course\, but above all a passion …\n\nVio
 lin\, piano\, voice\, sonata\, trio\, quartet\, teaching\, orchestra\, it 
 is with appetite that she devours a wide repertoire ranging from J S Bach 
 to Arvo Pärt. From her beginnings at the CNR in Paris to her two graduate
  degrees at the CNSMDP\, she has a deep appreciation for those who have sh
 aped her musical identity\, Suzanne Gessner\, Patrice Fontanarosa\, Jean-J
 acques Kantorow and Roland Daugareil in violin as well as Paul Boufil\, Pi
 erre-Laurent Aimard\, Alain Meunier\, Maurice Bourgue and Marc Coppey in c
 hamber music. Her passion for chamber music led her to perform with partne
 rs such as Gautier Capuçon\, Gérard Caussé\, the Ebène quartet\, Rolan
 d Daugareil\, Henri Demarquette\, Romain Descharmes\, Olivier Patey\, Shan
 i Diluka …\n\nWith the perfectionism that characterizes her\, Mathilde w
 anted to explore in depth the repertoire of the piano trio by creating in 
 2002 the Trio Estampe with pianist Claudine Simon and cellist Caroline Boi
 ta. Supported by the Meyer Foundation\, they record a CD “young soloist
 ” in 2010\, then in 2012 an album around the trio opus 5 of Max Bruch fo
 r the label Artie’s Records\, distribution Harmonia Mundi.\n\nFor this i
 nsatiable music\, to deprive oneself of the symphonic repertoire was unthi
 nkable. Mathilde was the holder of the Orchestre National de France from 2
 007 to 2017 under the direction of Maestro Daniele Gatti. During these 8 y
 ears in this formation\, she had the opportunity to play in the most prest
 igious halls (Amsterdam\, London\, New York\, Vienna …) and to be direct
 ed by\, among others\, Maestros Masur\, Muti\, Ozawa\, Järvi\, Sokhiev\, 
 Bychkov\, Haitink in repertoire as varied as they are complete. Her violin
 \, by the Italian luthier Riccardo Genovese (1931)\, follows in all her ad
 ventures.\n\nTrained in Lille\, then at the Queen Elisabeth Music Chapel (
 Belgium) by Jean-Claude Vanden Eynden and at the National Conservatory of 
 Music and Dance of Paris\, Jean-Michel Dayez thrives today on stage\, solo
  or in chamber music. Winner of the Anvers International Competition\, Mey
 er and Emile Bernheim Foundations\, he has since been involved in numerous
  musical projects. He is the pianist of the Trio Leos founded in 2013 with
  which he currently recorded the complete trios of Beethoven (first volume
  published by Klarthe). Member of the music collective Artie’s\, he mult
 iplies the meetings for more and more joys and musical adventures with con
 certs that lead him around the world.\n\nJean-Michel Dayez recorded with X
 avier Gagnepain the complete music for cello and piano by Fauré (zig-zag 
 territories)\, the complete sonatas for cello and piano of Beethoven with 
 Nicolas Deletaille (contréclisse)\, a monographic disc of composer Vincen
 t Paulet (hortus)\, a record of melodies and songs with Philippe Balloy. H
 older of the Certificate of Aptitude\, he teaches today in Lille\, at the 
 Superior School of Arts of Mons (Belgium)\, and for more than ten years ev
 ery summer at the festival academy Les Arcs.\n\n&nbsp\;\n\n\n\n\n\n&nbsp\;
 \n\n&nbsp\;\n\n&nbsp\;\n\n&nbsp\;\n\n&nbsp\;\n\n&nbsp\;
ATTACH;FMTTYPE=image/jpeg:https://poonamusic.com/pms_wp/wp-content/uploads
 /2019/02/MBH-2-by-webThomas-Baltes-.jpg
CATEGORIES:Festivals
LOCATION:Mazda Hall\, Sardar Dastur Hoshang Boys High School\, Pune\, India
GEO:18.5198845;73.87824479999995
X-APPLE-STRUCTURED-LOCATION;VALUE=URI;X-ADDRESS=Sardar Dastur Hoshang Boys 
 High School\, Pune\, India;X-APPLE-RADIUS=100;X-TITLE=Mazda Hall:geo:18.51
 98845,73.87824479999995
END:VEVENT
END:VCALENDAR