BEGIN:VCALENDAR
VERSION:2.0
PRODID:-//wp-events-plugin.com//7.1.7//EN
BEGIN:VEVENT
UID:1489@poonamusic.com
DTSTART:20190310T130000Z
DTEND:20190310T130000Z
DTSTAMP:20190313T002812Z
URL:https://poonamusic.com/events/arties-festival-12/
SUMMARY:Artie's festival - 23rd edition
DESCRIPTION:10th March\n\nClarisse Dalles\, soprano\nGauthier Herrmann\, ce
 llo\nMathilde Borsarello Herrmann\, violin\nJean-Michel Dayez\, piano\n\nI
 n a programme of Gabriel Fauré: Mandoline\, Hector Berlioz: L'île inconn
 ue H 87\, César Franck: Sonata in A major for piano and violin\, Maurice 
 Ravel: Sonatine\, Arvo Pärt: Spiegel im Spiegel\, Jules Massenet: Élégi
 e\, Amour Bénis and Francis Poulenc: Les Chemins de l'amour&nbsp\;\n\nIn 
 association with Alliance Française de Pune\n\nBorn in 1995\, Clarisse Da
 lles started studying music at the Regional Conservatory Versailles by lea
 rning piano. At the age of 15\, she discovered singing when joining the Ma
 îtrise de Radio France where she sang under such conductors as Mikko Fran
 ck\, Christoph Eschenbach\, Daniele Gatti\, René Jacobs\, Soﬁ Jeannin a
 nd Christian Järvi. At the age of 18 she continued her studies at the Dep
 artment for Young Singers of the Regional Conservatory of Paris in Melanie
  Jackson’s class. There she had the opportunity to sing under the direct
 ion of Henri Chalet\, Geoffroy Jourdain\, Laurence Equilbey and Nathalie S
 tutzmann. In June 2017\, she obtained her diploma and was accepted at the 
 National Conservatory of Music and Dance of Paris (CNSMDP) where she still
  studies with vocal coach Valérie Guillorit\, as well as at the Philippe 
 Jarrousky’s Music Academy.&nbsp\;\n\nIn 2015\, she made her operatic deb
 ut as Cecilia in Antonio Caldara’s Il Giuoco del Quadriglio\, under the 
 direction of Jérôme Corréas\, and staged by Mireille Laroche at the Pé
 nich’Opéra. She then sang in Iphigénie en Tauride by Christoph Williba
 ld von Gluck with the Young artist programme of the Paris Opera (soloist o
 f the Young Choir of Paris) at the Saint-Quentin-en-Yvelines Theater\, as 
 well as in the creation of Stéphane Michaka’s Alice et Merveilles with 
 the Orchester National de France at the Auditorium of Radio France.\n\nShe
  was also asked to participate in numerous concerts and recitals\, notably
  with Philippe Jarrousky as part of his academy\, accompanied by the Artas
 erse ensemble and the Appassionato ensemble directed by Mathieu Herzog. Sh
 e also sang in October 2017 in recital on France Musique in the show Gaël
 le le Gallic Generation young performers.\n\nDuring the 2018/2019 season\,
  she takes the part of Veronique\, in the Opérette of the same name by An
 dré Messager\, directed by Vincent Vittoz at the Théâtre de Bayonne at 
 the Ravel Festival. Then she will for a tour in different theaters in Fran
 ce. During this same season she is also Callisto in Giove in Argo by Anton
 io Lotti at the Grand Palais in Paris\, under the direction of Leonardo Ga
 rcia Alarcon. She was recently invited by the New Aquitaine Chamber Orches
 tra to sing Gustav Mahler’s 4th symphony at the Grand Théâtre de Poiti
 ers and the Philharmonie de Paris.\n\nClarisse is also passionate about li
 ed and French melody\, a repertoire which she perfected with pianists Anne
  Le Bozec\, and Jeff Cohen. She recently won the Young Hope Award\, awarde
 d by the French Center for Lyric Promotion at the International Lieder and
  Melodies Competition in Gordes.\n\nTraveller\, entrepreneur\, explorer\, 
 Gauthier Herrmann is not your typical musician. Chamber musician\, Artisti
 c Director of Artie’s\, winner of the International competitions of Heer
 len\, Firenze\, Illzach\, Paris. A passionate cello player with a focus on
  chamber music\, founder and director of “Artie’s”\, Gauthier has tr
 avelled the world for ten years in the company of his family and Artie’s
  joyful musicians \; artists united by their repertoire and their loyalty 
 to each other. &nbsp\;\n\n&nbsp\;His focus and determination have led him 
 to be held in high regard on the classical musical circuit.&nbsp\; He has 
 received high awards (with the Trio con Fuoco) and acclaim at the Florence
 \, Heerlen\, Illzach\, Vibrarte and Fnapec music competitions and he is hi
 ghly respected by leading musicians. In 2001\, Gauthier Herrmann discovere
 d India. This trip gave birth to the Artie’s adventure\, a slightly craz
 y project summed up by two words at the heart of modern day classical musi
 c : family and enterprise.\n\nArtie’s Festival’s development is thanks
  to an entrepreneur who\, wanting to set-up a series of music concerts\, s
 old his first cello\, to make possible the dream of bringing together two 
 worlds previously seen as incompatible: classical music and India. Ten yea
 rs\, 21 editions\, 14 cities\, 58 musicians\, 65 trips and more than 40\,0
 00 spectators later\, chamber music has found a home in India. Aside from 
 India\, Artie’s has played in China\, Saudi Arabia\, Kuweit\, Vietnam\, 
 Indonesia\, Kazakhstan\, Nepal and in Europe of course…\n\nA Prize winne
 r of the prestigious Marguerite Long – Jacques Thibaud competition in 20
 10\, Mathilde Borsarello Herrmann puts her talent at the service of music 
 in all its forms. Her true mother tongue … Music! A total immersion from
  childhood\, a vocation of course\, but above all a passion …\n\nViolin\
 , piano\, voice\, sonata\, trio\, quartet\, teaching\, orchestra\, it is w
 ith appetite that she devours a wide repertoire ranging from J S Bach to A
 rvo Pärt. From her beginnings at the CNR in Paris to her two graduate deg
 rees at the CNSMDP\, she has a deep appreciation for those who have shaped
  her musical identity\, Suzanne Gessner\, Patrice Fontanarosa\, Jean-Jacqu
 es Kantorow and Roland Daugareil in violin as well as Paul Boufil\, Pierre
 -Laurent Aimard\, Alain Meunier\, Maurice Bourgue and Marc Coppey in chamb
 er music. Her passion for chamber music led her to perform with partners s
 uch as Gautier Capuçon\, Gérard Caussé\, the Ebène quartet\, Roland Da
 ugareil\, Henri Demarquette\, Romain Descharmes\, Olivier Patey\, Shani Di
 luka …\n\nWith the perfectionism that characterizes her\, Mathilde wante
 d to explore in depth the repertoire of the piano trio by creating in 2002
  the Trio Estampe with pianist Claudine Simon and cellist Caroline Boita. 
 Supported by the Meyer Foundation\, they record a CD “young soloist” i
 n 2010\, then in 2012 an album around the trio opus 5 of Max Bruch for the
  label Artie’s Records\, distribution Harmonia Mundi.\n\nFor this insati
 able music\, to deprive oneself of the symphonic repertoire was unthinkabl
 e. Mathilde was the holder of the Orchestre National de France from 2007 t
 o 2017 under the direction of Maestro Daniele Gatti. During these 8 years 
 in this formation\, she had the opportunity to play in the most prestigiou
 s halls (Amsterdam\, London\, New York\, Vienna …) and to be directed by
 \, among others\, Maestros Masur\, Muti\, Ozawa\, Järvi\, Sokhiev\, Bychk
 ov\, Haitink in repertoire as varied as they are complete. Her violin\, by
  the Italian luthier Riccardo Genovese (1931)\, follows in all her adventu
 res.\n\nTrained in Lille\, then at the Queen Elisabeth Music Chapel (Belgi
 um) by Jean-Claude Vanden Eynden and at the National Conservatory of Music
  and Dance of Paris\, Jean-Michel Dayez thrives today on stage\, solo or i
 n chamber music. Winner of the Anvers International Competition\, Meyer an
 d Emile Bernheim Foundations\, he has since been involved in numerous musi
 cal projects. He is the pianist of the Trio Leos founded in 2013 with whic
 h he currently recorded the complete trios of Beethoven (first volume publ
 ished by Klarthe). Member of the music collective Artie’s\, he multiplie
 s the meetings for more and more joys and musical adventures with concerts
  that lead him around the world.\n\nJean-Michel Dayez recorded with Xavier
  Gagnepain the complete music for cello and piano by Fauré (zig-zag terri
 tories)\, the complete sonatas for cello and piano of Beethoven with Nicol
 as Deletaille (contréclisse)\, a monographic disc of composer Vincent Pau
 let (hortus)\, a record of melodies and songs with Philippe Balloy. Holder
  of the Certificate of Aptitude\, he teaches today in Lille\, at the Super
 ior School of Arts of Mons (Belgium)\, and for more than ten years every s
 ummer at the festival academy Les Arcs.\n\n&nbsp\;\n\n\n\n\n\n&nbsp\;\n\n&
 nbsp\;\n\n&nbsp\;\n\n&nbsp\;\n\n&nbsp\;
ATTACH;FMTTYPE=image/jpeg:https://poonamusic.com/pms_wp/wp-content/uploads
 /2019/02/Clarisse-Dalles.jpeg
CATEGORIES:Festivals
LOCATION:Mazda Hall\, Sardar Dastur Hoshang Boys High School\, Pune\, India
GEO:18.5198845;73.87824479999995
X-APPLE-STRUCTURED-LOCATION;VALUE=URI;X-ADDRESS=Sardar Dastur Hoshang Boys 
 High School\, Pune\, India;X-APPLE-RADIUS=100;X-TITLE=Mazda Hall:geo:18.51
 98845,73.87824479999995
END:VEVENT
END:VCALENDAR