BEGIN:VCALENDAR
VERSION:2.0
PRODID:-//wp-events-plugin.com//7.1.7//EN
BEGIN:VEVENT
UID:1333@poonamusic.com
DTSTART:20150322T124500Z
DTEND:20150322T151500Z
DTSTAMP:20150601T062429Z
URL:https://poonamusic.com/events/arties-festival-15th-edition-2/
SUMMARY:Arties festival - Hugues Borsarello\, violin / Marie Chilemme\, vio
 la / Aude Giuliano\, accordion / Audrey Vigoureux\, piano / Gauthier Herrm
 ann\, cello
DESCRIPTION:Arties festival returns in its 15th edition in March 2015\, as 
 usual\, with masterpieces and lesser known music\, including some charming
  transcriptions.\n\nHugues Borsarello is a violinist par excellence known 
 for his combination of virtuosity and elegance. He performs as soloist and
  chamber musician all over France and Europe\, and his recording of the co
 mplete Mozart violin concertos has been recently released on Arties Record
 s.\n\nMarie Chilemme is in great demand as a chamber musician and soloist 
 and is considered one of the foremost young French violists. After studyin
 g in France\, she studied with Tabea Zimmermann in Berlin. Currently\, Mar
 ie is the violist of the Quatuor Cavatine.\n\nAude Giuliano started playin
 g accordion at age 5. She has won world accordion championships in Italy a
 nd Germany. She plays accordion in many classical compositions replacing t
 he harmonium and has done concert tours all over Europe\, South America an
 d South east Asia.\n\nAudrey Vigoureux\, pianist\, is a new addition to th
 e Arties family. After studying in France she went on to study in Geneva w
 ith Sébastien Risler. She has won numerous awards and prizes and shot to 
 fame after replacing a pianist at short notice to perform Rachmaninoff’s
  Piano concerto No. 1.\n\nGauthier Herrmann needs no introduction in India
 . He is the entrepreneur- musician who is the Artistic director of Arties 
 festival. He won first prize in cello from the Paris Conservatoire and sin
 ce then has embarked on a journey to establish Arties festival in differen
 t parts of the world. A cellist passionately turned towards chamber music\
 , he has travelled the globe for over ten years in the company of his fami
 ly - the merry band of Arties musicians brought together by great musical 
 repertoire and loyalty to each other. He has won numerous prizes and plays
  a Benoit Fleury instrument of 1754\, belonging to a private sponsor.\n\n
CATEGORIES:Festivals
LOCATION:Mazda Hall\, Sardar Dastur Hoshang Boys High School\, Pune\, India
GEO:18.5198845;73.87824479999995
X-APPLE-STRUCTURED-LOCATION;VALUE=URI;X-ADDRESS=Sardar Dastur Hoshang Boys 
 High School\, Pune\, India;X-APPLE-RADIUS=100;X-TITLE=Mazda Hall:geo:18.51
 98845,73.87824479999995
END:VEVENT
END:VCALENDAR