BEGIN:VCALENDAR
VERSION:2.0
PRODID:-//wp-events-plugin.com//7.1.7//EN
BEGIN:VEVENT
UID:1370@poonamusic.com
DTSTART:20160308T133000Z
DTEND:20160308T153000Z
DTSTAMP:20160225T173116Z
URL:https://poonamusic.com/events/arties-festival-3/
SUMMARY:Artie’s Festival - 17th edition
DESCRIPTION:Hugues Borsarello\, violin\nLaurent Manaud Pallas\, violin\nArn
 aud Thorette\, viola\nMathieu Herzog\, viola \nGauthier Herrmann\, cello\n
 Emmanuel Christien\, piano\n\n\n\nProgramme on Tuesday 8th March\nMozart: 
 Fantasy in C minor K 475\, String quartet “Hoffmeister” K. 499 and Sch
 ubert: String quartet No. 15 D 887\n\nProgramme on Wednesday 9th March\nGr
 ieg:  Violin sonata No.3\; Mozart: String quintet in D K 593 and Mendelss
 ohn: String quintet No. 2 Op. 87\n\nhttp://www.artiesevent.com/wp-content/
 uploads/2014/10/maquette-portraits-AFI-17-1.jpg\n\nHugues Borsarello is a 
 violinist par excellence known for his combination of virtuosity and elega
 nce. He performs as soloist and chamber musician all over France and Europ
 e\, and his recording of the complete Mozart violin concertos has been rec
 ently released on Arties Records.\n\nLaurent Manaud-Pallas is the first so
 loist at the Orchestre National de France. He is also the principal violin
 ist at the Orchestre de Pau Pays de Béarn. Laurent Manaud-Pallas plays a 
 1842 violin from Vissenaire.\n\nDue to "his creativity\, enthusiasm and de
 dication" Arnaud Thorette belongs among the most promising viola players o
 f his generation. He has won prizes at the International Viola Competition
  in Genova\, Paris\, Nuremberg and Haverhill\, and was awarded numerous di
 stinctions\, among them the Prix Académie Ravel. His repertoire ranging f
 rom Baroque to Contemporary Music to Tango provides a wealth of variety fo
 r his own musical expression.\n\nAs a conductor\, violist\, composer\, arr
 anger\, founding member of the Quatuor Ebène\, and countless other distin
 ctions\, Mathieu Herzog is a consummate artist. Winner of the « Concours 
 International de Bordeaux »\, and of the ARD competition in Munich\, he h
 as performed in some of the most prestigious venues in the world. He has g
 iven numerous masterclasses and in 2009 was named Professor in Residence a
 t the prestigious Colburn School in Los Angeles.\n\nGauthier Herrmann won 
 first prize in cello from the Paris Conservatoire and since then has embar
 ked on a journey to establish Arties festival in different parts of the wo
 rld. A cellist passionately turned towards chamber music\, he has travelle
 d the globe for over ten years in the company of his family - the merry ba
 nd of Arties musicians brought together by great musical repertoire.\n\n 
 Emmanuel Christien is one of France's most diverse young pianists who is i
 n great demand. Emmanuel graduated in piano\, chamber music and vocal acco
 mpaniment. He won several awards in International competitions for piano\,
  like Casagrande (Italy) and Perlemuter (France).
ATTACH;FMTTYPE=image/jpeg:https://poonamusic.com/pms_wp/wp-content/uploads
 /2016/02/Gauthier-Herrmann10.jpg
CATEGORIES:Festivals
LOCATION:Mazda Hall\, Sardar Dastur Hoshang Boys High School\, Pune\, India
GEO:18.5198845;73.87824479999995
X-APPLE-STRUCTURED-LOCATION;VALUE=URI;X-ADDRESS=Sardar Dastur Hoshang Boys 
 High School\, Pune\, India;X-APPLE-RADIUS=100;X-TITLE=Mazda Hall:geo:18.51
 98845,73.87824479999995
END:VEVENT
END:VCALENDAR