BEGIN:VCALENDAR
VERSION:2.0
PRODID:-//wp-events-plugin.com//7.1.7//EN
BEGIN:VEVENT
UID:1677@poonamusic.com
DTSTART:20260523T133000Z
DTEND:20260523T133000Z
DTSTAMP:20260419T124725Z
URL:https://poonamusic.com/events/arties-festival-30th-edition-concert-2/
SUMMARY:Artie’s Festival - 30th Edition (Concert 2)
DESCRIPTION:Nathan Mierdl\, violin\nEmma Gibout\, violin\nViolaine Despeyro
 ux\, viola\nGauthier Herrmann\, cello\nJoë Christophe\, clarinet\n\nIn a 
 programme of L. van. Beethoven: Quartet Op. 18 No. 4\, Quartet Op. 59 No. 
 2 and W. A. Mozart: Clarinet quintet K 581\n\nIn association with Alliance
  Française de Pune\nNathan Mierdl started his violin apprenticeship in Ge
 rmany. He was then admitted to the Conservatoire à rayonnement régional 
 de Dijon (France) and subsequently studied under Christophe Poiget. He obt
 ained his Master’s degree in 2018 at Conservatoire National Supérieur d
 e Musique et de Danse where he studied under Roland Daugareil. After study
 ing at the Academy of the Orchestre Philharmonique de Radio France and the
  Academy of the Orchestre de Paris\, he became a member of the Orchestre 
 National de France and this was followed promptly by a position as assist
 ant concertmaster with the Orchestre Philharmonique de Radio France. He w
 as appointed concertmaster in January 2023. Nathan won various Internation
 al prizes. In 2018 he won the Second Senior Prize at the prestigious Menu
 hin Competition along with the Arte Concert Online Prize\, the Composer A
 ward (prize for contemporary music composed just for the competition) and 
 the Jonathan Moulds Award for Outstanding Potential.\nEmma Gibout began pl
 aying the violin at the Pau Conservatory with Claire Zarembowitch where sh
 e obtained a first prize for violin with honours in 2015. She then studied
  at the CRR in Boulogne-Billancourt with Christophe Poiget before returnin
 g to the CNSM in Lyon in the class of Marianne Piketty\, Manuel Solans\, D
 ominique Lonca and Jennifer Gilbert. She obtained a DNSPM license there in
  2019 and is currently pursuing her master’s studies at the Hochschule 
 ‘Hanns Eisler’ in Berlin with Ulf Wallin. Emma Gibout is the winner of
  several International competitions: she won 3rd prize in the ‘Marie Can
 tagrill’ competition in 2012 then 1st prize in the ‘Arthur Grumiaux’
  International competition in Brussels in 2018. Passionate about the orche
 stra\, she joined the Orchestre Français des Jeunes in 2014 and 2016\, th
 en the Verbier Festival Orchestra in 2017\, of which she became concertmas
 ter from 2018 which allows her to play under the baton of the greatest con
 ductors such as Simon Rattle\, Valery Gergiev\, Manfred Honeck\, Esa-Pekka
  Salonen\, Daniel Harding\, Antonio Pappano.\nViolaine Despeyroux: ‘I co
 nsider music as a journey\, a moment suspended in time\, which is differen
 t with each interpretation. The listeners will be guided simply into a sto
 ry that we create together.’ This conception of musical interpretation a
 s a unique and immersive moment of sharing is the basis of Violaine Despey
 roux’s artistic practice. This young viola player\, much sought after as
  a chamber musician and soloist\, stands out on stage\, with her personali
 ty and energy\, both precise and electrifying.\nViolaine Despeyroux has be
 en awarded the 1st prize at the National Competition for Young Violists an
 d the 2nd prize and prize for the best Bach performance at the Internation
 al Competition of viola Cecil Aronowitz in Birmingham amongst others. A pa
 ssion and tenacity that can be found in the prestigious European and Inter
 national music halls: the Victoria Hall in Geneva\, the Seiji Ozawa Hall i
 n Tanglewood (USA)\, the Théâtre des Champs Elysées in Paris or the Pal
 ais des Beaux-arts in Brussels\, alongside renowned partners like Renaud C
 apuçon\, Gary Hoffman\, Claire Désert\, Suyoen Kim\, Alexandra Soumm\, S
 moking Josephine Ensemble. As a soloist\, Violaine Despeyroux performed in
  France\, Italy and Belgium with conductors such as Vahan Mardirossian and
  Ian Fountain.\nTraveller\, entrepreneur\, ultra-trailer\, Gauthier Herrma
 nn isn’t your typical musician. A cellist with a passion for small ensem
 bles and chamber music\, Gauthier is laureate of International competition
 s in Florence (Italy)\, Heerlen (Netherlands)\, Illzach\, Vibrarte\, Fnape
 c (France). He is also a finisher of crazy races\, such as La Diagonale de
 s fous in La Reunion\, the 100km of Millau\, the Oisons Trail Tour… In 2
 001\, Gauthier discovered India. It was from this moment on that Artie’s
  adventures were born\, a slightly crazy project that could be summarized 
 as follows: music\, kindness\, curiosity and enterprise. Around Gauthier\
 , a plethora of musician friends crystallized\, who would travel the world
 \, under his leadership and his artistic direction. Gauthier has had the p
 leasure of performing in more than 50 countries and in particular of devel
 oping recurring projects in India\, China\, Saudi Arabia\, Kuwait\, Vietna
 m\, Indonesia\, Kazakhstan\, Nepal and of course Europe. In 2012\, Gauthie
 r founded a production company\, LdB-prod (or Louis de Beethoven)\, a Fre
 nch tribute to his musical idol. LdB-prod imagines and offers seasons of c
 hamber music with an assumed ambition: to reestablish intimacy between the
  room and the stage\, to bring the artists closer to their audience. Gauth
 ier plays a magnificent cello by the Italian violin maker Giuseppe Rocca (
 Turin\, 1853)\, placed in his hands by the Eisenberg Fund.\nIn 2019\, Jo
 ë Christophe confirms his artistic singularity by winning the 1st Prize a
 t the Cluj International Competition in Romania\, and the following month\
 , the 1st Prize as well as 6 special prizes at the highly prestigious ARD 
 competition in Munich\, launching his career as a soloist to an Internatio
 nal stage. As a soloist with major orchestras (DSO Berlin\, SWR Stuttgart
 \, München Rundfunkorchester and Kammerorchester\, Philharmonie Dessau...
 ) or as a chamber musician at numerous festivals\, his career has taken h
 im to the most prestigious concert halls throughout the world.\n
ATTACH;FMTTYPE=image/jpeg:https://poonamusic.com/pms_wp/wp-content/uploads
 /2024/03/Gauthier_2023_crop.jpg
CATEGORIES:Chamber Music
LOCATION:Mazda Hall\, Sardar Dastur Hoshang Boys High School\, Pune\, India
GEO:18.5198845;73.87824479999995
X-APPLE-STRUCTURED-LOCATION;VALUE=URI;X-ADDRESS=Sardar Dastur Hoshang Boys 
 High School\, Pune\, India;X-APPLE-RADIUS=100;X-TITLE=Mazda Hall:geo:18.51
 98845,73.87824479999995
END:VEVENT
END:VCALENDAR