BEGIN:VCALENDAR
VERSION:2.0
PRODID:-//wp-events-plugin.com//7.1.7//EN
BEGIN:VEVENT
UID:1388@poonamusic.com
DTSTART:20161110T133000Z
DTEND:20161110T133000Z
DTSTAMP:20161025T164859Z
URL:https://poonamusic.com/events/arties-festival-4/
SUMMARY:Artie's Festival
DESCRIPTION:In a programme of W. A. Mozart: Le Nozze di Figaro overture K 4
 92\; F. Mendelssohn: Symphony No. 4\; R. Wagner: Siegfried Idyll and Eros 
 Babylone: Chaldea Fantasia\n\n\n\nWith Artie's Chamber Orchestra\nPierre F
 ouchenneret\, violin\nAlexandre Pascal\, violin\nMarie Chilemme\, viola\nG
 authier Herrmann\, cello\nAdrien Tyberghein\, doublebass\nFlorent Pujuila\
 , clarinet\nFleur Gruneissen\, flute\nLola Descours\, bassoon\nJulien Desp
 lanques\, french horn\nSebastien Giot\, oboe\nRomain Descharmes\, piano\n\
 nIn association with Alliance Française de Pune\n\n\n\nInaugurated in Mar
 ch 2008\, the Artie's Festival takes place every March and November thanks
  to Gauthier Herrmann who brings the finest young musicians\, who are hand
 picked for the festival. The musicians all compare with the finest in Euro
 pe\, they are all ready to play for a good cause and have an uncompromisin
 g love for India. Gauthier Hermann has been at the helm of the Artie's fes
 tival for the past eight years.\n\nThe philosophy of the Artie's Chamber O
 rchestra is to perform special arrangements for a chamber group of huge or
 chestral works which are not possible to perform without having the resour
 ce of a big orchestra and several rehearsals. Such music was arranged for 
 special performances at the Society for Private Musical Performances in Vi
 enna which was founded by Arnold Schoenberg. The Society was dedicated to 
 performing contemporary music at the highest possible level and included b
 ig orchestral and choral works like those of Mahler and Bruckner. The pros
 pectus read 'while the Society does not presently have the means to perfor
 m them in their original cast\, for the time being\, they can be reproduce
 d only as arrangements for chamber orchestra (string quintet\, piano\, har
 monium\, flute\, clarinet\, etc.)' .\n\n
ATTACH;FMTTYPE=image/jpeg:https://poonamusic.com/pms_wp/wp-content/uploads
 /2016/08/Pierre-fouchenneret-crop.jpg
CATEGORIES:Festivals
LOCATION:Mazda Hall\, Sardar Dastur Hoshang Boys High School\, Pune\, India
GEO:18.5198845;73.87824479999995
X-APPLE-STRUCTURED-LOCATION;VALUE=URI;X-ADDRESS=Sardar Dastur Hoshang Boys 
 High School\, Pune\, India;X-APPLE-RADIUS=100;X-TITLE=Mazda Hall:geo:18.51
 98845,73.87824479999995
END:VEVENT
END:VCALENDAR