BEGIN:VCALENDAR
VERSION:2.0
PRODID:-//wp-events-plugin.com//7.1.7//EN
BEGIN:VEVENT
UID:1389@poonamusic.com
DTSTART:20161111T133000Z
DTEND:20161111T133000Z
DTSTAMP:20161025T164946Z
URL:https://poonamusic.com/events/arties-festival-5/
SUMMARY:Artie's Festival
DESCRIPTION:In a programme of Rachmaninoff: Piano trio "élégiaque" No. 1\
 ; Beethoven: Sonata for horn and piano Op. 17\; Franz Strauss: Nocturne Op
 . 7 and Tchaikovsky: Piano trio Op. 50\n\n\n\nWith Artie's Chamber Orchest
 ra\nPierre Fouchenneret\, violin\nAlexandre Pascal\, violin\nMarie Chilemm
 e\, viola\nGauthier Herrmann\, cello\nAdrien Tyberghein\, doublebass\nFlor
 ent Pujuila\, clarinet\nFleur Gruneissen\, flute\nLola Descours\, bassoon\
 nJulien Desplanques\, french horn\nSebastien Giot\, oboe\nRomain Descharme
 s\, piano\n\nIn association with Alliance Française de Pune\n\n\n\nInaugu
 rated in March 2008\, the Artie's Festival takes place every March and Nov
 ember thanks to Gauthier Herrmann who brings the finest young musicians\, 
 who are handpicked for the festival. The musicians all compare with the fi
 nest in Europe\, they are all ready to play for a good cause and have an u
 ncompromising love for India. Gauthier Hermann has been at the helm of the
  Artie's festival for the past eight years.\n\nThe philosophy of the Artie
 's Chamber Orchestra is to perform special arrangements for a chamber grou
 p of huge orchestral works which are not possible to perform without havin
 g the resource of a big orchestra and several rehearsals. Such music was a
 rranged for special performances at the Society for Private Musical Perfor
 mances in Vienna which was founded by Arnold Schoenberg. The Society was d
 edicated to performing contemporary music at the highest possible level an
 d included big orchestral and choral works like those of Mahler and Bruckn
 er. The prospectus read 'while the Society does not presently have the mea
 ns to perform them in their original cast\, for the time being\, they can 
 be reproduced only as arrangements for chamber orchestra (string quintet\,
  piano\, harmonium\, flute\, clarinet\, etc.)' .\n\n
ATTACH;FMTTYPE=image/jpeg:https://poonamusic.com/pms_wp/wp-content/uploads
 /2016/08/2-GauthierHerrmann©ThomasBaltes11.jpg
CATEGORIES:Festivals
LOCATION:Mazda Hall\, Sardar Dastur Hoshang Boys High School\, Pune\, India
GEO:18.5198845;73.87824479999995
X-APPLE-STRUCTURED-LOCATION;VALUE=URI;X-ADDRESS=Sardar Dastur Hoshang Boys 
 High School\, Pune\, India;X-APPLE-RADIUS=100;X-TITLE=Mazda Hall:geo:18.51
 98845,73.87824479999995
END:VEVENT
END:VCALENDAR