BEGIN:VCALENDAR
VERSION:2.0
PRODID:-//wp-events-plugin.com//7.1.7//EN
BEGIN:VEVENT
UID:85@poonamusic.com
DTSTART:20120311T131500Z
DTEND:20120311T153000Z
DTSTAMP:20150601T060125Z
URL:https://poonamusic.com/events/arties-festival-hugues-borsarello-diet-t
 ilanus-violins-marie-chilemme-viola-gauthier-herrmann-cello-karen-vourch-s
 oprano-olivier-patey-clarinet-emmanuel-christien-piano/
SUMMARY:Arties Festival - Hugues Borsarello\, Diet Tilanus\, violins / Mari
 e Chilemme\, viola / Gauthier Herrmann\, cello / Karen Vourc’h\, soprano
  / Olivier Patey\, clarinet / Emmanuel Christien\, piano
DESCRIPTION:Arties Festival - Hugues Borsarello\, Diet Tilanus\, violins / 
 Marie Chilemme\, viola / Gauthier Herrmann\, cello / Karen Vourc’h\, sop
 rano / Olivier Patey\, clarinet / Emmanuel Christien\, piano\n\n
CATEGORIES:Festivals
LOCATION:Mazda Hall\, Sardar Dastur Hoshang Boys High School\, Pune\, India
GEO:18.5198845;73.87824479999995
X-APPLE-STRUCTURED-LOCATION;VALUE=URI;X-ADDRESS=Sardar Dastur Hoshang Boys 
 High School\, Pune\, India;X-APPLE-RADIUS=100;X-TITLE=Mazda Hall:geo:18.51
 98845,73.87824479999995
END:VEVENT
END:VCALENDAR