BEGIN:VCALENDAR
VERSION:2.0
PRODID:-//wp-events-plugin.com//7.1.7//EN
BEGIN:VEVENT
UID:60@poonamusic.com
DTSTART:20140328T131500Z
DTEND:20140328T153000Z
DTSTAMP:20150601T061304Z
URL:https://poonamusic.com/events/arties-festival-laurent-manaud-pallas-ma
 thilde-borsarello-herrmann-violins-cecile-grassi-viola-emmanuel-christien-
 piano-gauthier-herrmann-cello-2/
SUMMARY:Arties festival - Laurent Manaud Pallas\, Mathilde Borsarello Herrm
 ann\, violins / Cécile Grassi\, viola / Emmanuel Christien\, piano / Gaut
 hier Herrmann\, cello
DESCRIPTION:Laurent Manaud-Pallas is the first soloist at the Orchestre Nat
 ional de France. He is also the principal violinist at the Orchestre de Pa
 u Pays de Béarn. Laurent Manaud-Pallas plays a 1842 violin from Vissenair
 e.\n\nMathilde Borsarello Herrmann started studying the violin from the ag
 e of five with her father. After being awarded the first prize in Suzanne 
 Gessner’s class\, she later studied chamber music with Paul Boufil and j
 oined the violin class of Patrice Fontanarosa and Jean-Jacques Kantarow at
  the Paris Conservatoire.\n\nCécile Grassi liked chamber music at an earl
 y age and founded Psophos Quartet in 1997 with which she won numerous inte
 rnational prizes. It was the First French Quartet selected for the prestig
 ious New Generation Artists BBC Radio 3 in London and in 2005 awarded "Bes
 t Ensemble of the Year" at the Victoires de la Musique. The quartet has re
 corded many discs.\n\nEmmanuel Christien is one of France's most diverse y
 oung pianists who is in great demand. Emmanuel graduated in piano\, chambe
 r music and vocal accompaniment. He won several awards in International co
 mpetitions for piano\, like Casagrande (Italy) and Perlemuter (France).\n\
 nGauthier Herrmann started studying cello at the age of eight with Nicole 
 Daihnaut. In 1998\, he joined the class of Marcel Bardon in the Conservato
 ire Supérieur de Paris (CNR) where he obtained a first prize in cello in 
 2000. Gauthier started visiting India in 2001 and in 2008\, created Arties
  Festival which has brought outstanding musicians from Europe to play cham
 ber music in India.\n\n
CATEGORIES:Festivals
LOCATION:Mazda Hall\, Sardar Dastur Hoshang Boys High School\, Pune\, India
GEO:18.5198845;73.87824479999995
X-APPLE-STRUCTURED-LOCATION;VALUE=URI;X-ADDRESS=Sardar Dastur Hoshang Boys 
 High School\, Pune\, India;X-APPLE-RADIUS=100;X-TITLE=Mazda Hall:geo:18.51
 98845,73.87824479999995
END:VEVENT
END:VCALENDAR