BEGIN:VCALENDAR
VERSION:2.0
PRODID:-//wp-events-plugin.com//7.1.7//EN
BEGIN:VEVENT
UID:1524@poonamusic.com
DTSTART:20200726T180000Z
DTEND:20200726T180000Z
DTSTAMP:20200926T105500Z
URL:https://poonamusic.com/events/arties-festival-online-concert-2/
SUMMARY:Artie's festival online concert
DESCRIPTION:Mathilde Borsarello-Herrmann\, violin\; Gauthier Herrmann\, cel
 lo\; Emmanuel Christien\, piano\; Anne-Marine Suire\, soprano \n\nIn assoc
 iation with Goethe Institute\, Max Mueller Bhavan\, Pune and Alliance Fran
 çaise de Pune\n\nIn a programme of Beethoven: Sonata for Violin and Piano
  Op. 24 (Spring) (Mov. 1)\, Fauré: Clair de Lune\, Kumesbiekov: Poème\, 
 Poulenc: Métamorphoses and Beethoven: Piano trio Op. 1 No. 3 (Mov. 1)\n\n
 Artie’s festival’s strong connection to India has enabled them to have
  a presence in other important centres in Asia and the Middle East. Their 
 tour of Around the World in 80 concerts has had to be put on hold\, but th
 ey continue to make music and share it with their friends around the world
 . This year their repertoire includes some major chamber music by Beethove
 n. This concert was specially recorded in Paris\, behind closed doors.\n\n
 \n\nPlease follow the link: http://poonamusic.com/streams/\n\n 
ATTACH;FMTTYPE=image/jpeg:https://poonamusic.com/pms_wp/wp-content/uploads
 /2020/03/GH-TB.jpg
CATEGORIES:Online Concert
LOCATION:https://poonamusic.com/streams/
END:VEVENT
END:VCALENDAR