BEGIN:VCALENDAR
VERSION:2.0
PRODID:-//wp-events-plugin.com//7.1.7//EN
BEGIN:VEVENT
UID:1520@poonamusic.com
DTSTART:20200628T180000Z
DTEND:20200628T180000Z
DTSTAMP:20220805T154902Z
URL:https://poonamusic.com/events/arties-festival-online-concert/
SUMMARY:Artie's festival online concert
DESCRIPTION:Mathilde Borsarello-Herrmann\, violin\; Gauthier Herrmann\, cel
 lo\; Emmanuel Christien\, piano with special guest Anne-Marine Suire\, sop
 rano \n\n Programme: Mendelssohn: Piano Trio No. 2 Op. 66 in C minor\n\nI
 n association with Goethe Institute\, Max Mueller Bhavan\, Pune and Allian
 ce Française de Pune\n\n Artie's festival started in India\, particularl
 y in Pune. This year the festival was supposed to embark on a world tour o
 f 80 concerts. Needless to say\, the Covid-19 Pandemic has played spoilspo
 rt for them. These musicians were very disappointed not to travel to India
  this March.\n\nHowever\, as a gift to us all\, they are sending us a reco
 rding of this beautiful Piano trio by Mendelssohn which was recorded earli
 er at Salle Cortot in Paris.\n\nIn addition\, soprano Anne-Marine Suire wi
 ll sing for us a Hindi song as an encore.\n\nPlease follow the link: http:
 //poonamusic.com/streams/\n\nThis concert will be available from 6.00 pm o
 n Sunday 28th June 2020\n\n\n\n
ATTACH;FMTTYPE=image/jpeg:https://poonamusic.com/pms_wp/wp-content/uploads
 /2020/06/Arties-Cortot-crop1.jpg
CATEGORIES:Online Concert
LOCATION:https://poonamusic.com/streams/
END:VEVENT
END:VCALENDAR