BEGIN:VCALENDAR
VERSION:2.0
PRODID:-//wp-events-plugin.com//7.1.7//EN
BEGIN:VEVENT
UID:56@poonamusic.com
DTSTART:20131117T131500Z
DTEND:20131117T153000Z
DTSTAMP:20150601T061042Z
URL:https://poonamusic.com/events/arties-festival-pierre-fouchenneret-sull
 imann-altmayer-violins-marc-desmons-viola-gauthier-herrmann-cello-romain-d
 escharmes-piano-2/
SUMMARY:Arties festival - Pierre Fouchenneret\, Sullimann Altmayer\, violin
 s / Marc Desmons\, viola / Gauthier Herrmann\, cello / Romain Descharmes\,
  piano
DESCRIPTION:Arties festival is now in its 12th edition. Its popularity has 
 grown over the years\, and it brings the finest young musicians to India.\
 n\nPierre Fouchenneret  was accepted by the  Paris Conservatoire at the 
 early age of 12. He performs around the world along with renowned musician
 s and is a member of the group Ensemble Contraste\, Trio Magellan and Quat
 uor Raphaël.\n\nSulliman Altmayer is much in demand as a violinist and a 
 dedicated chamber musician. He created the Trio Con Fuoco in 1998 whilst s
 tudying with Paul Boufil. Sulliman has toured the world and played with th
 e most esteemed musicians.\n\nMarc Desmons is principal violist of the Orc
 hestre Philarmonique de Radio-France and has started a career as a conduct
 or. A seasoned traveller\, he has discovered magnificent countries and civ
 ilisations\, in particular Ladakh and Peru.\n\nRomain Descharmes was born 
 in Nancy and studied at the Paris Conservatoire. He was awarded First Priz
 e in the Dublin International Piano Competition in 2006\, leading him to p
 erform recitals all over the world.\n\nGauthier Herrmann started studying 
 cello at the age of eight with Nicole Daihnaut. In 1998\, he joined the cl
 ass of Marcel Bardon in the Conservatoire Supérieur de Paris (CNR) where 
 he obtained a first prize in cello in 2000. Gauthier started visiting Indi
 a in 2001 and in 2008\, created Arties Festival which has brought outstand
 ing musicians from Europe to play chamber music in India.\n\n
CATEGORIES:Festivals
LOCATION:Mazda Hall\, Sardar Dastur Hoshang Boys High School\, Pune\, India
GEO:18.5198845;73.87824479999995
X-APPLE-STRUCTURED-LOCATION;VALUE=URI;X-ADDRESS=Sardar Dastur Hoshang Boys 
 High School\, Pune\, India;X-APPLE-RADIUS=100;X-TITLE=Mazda Hall:geo:18.51
 98845,73.87824479999995
END:VEVENT
END:VCALENDAR