BEGIN:VCALENDAR
VERSION:2.0
PRODID:-//wp-events-plugin.com//7.1.7//EN
BEGIN:VEVENT
UID:1451@poonamusic.com
DTSTART:20180330T133000Z
DTEND:20180330T133000Z
DTSTAMP:20180312T124427Z
URL:https://poonamusic.com/events/arties-festival-volta-quartet-2/
SUMMARY:Artie’s festival with Volta Quartet
DESCRIPTION:Gauthier Herrmann\, cello\nHugues Borsarello\, violin\nLaurent 
 Manaud Pallas\, violin\nArnaud Thorette\, viola\nOlivier Patey\, clarinet\
 n\nIn a programme of Mozart :&nbsp\;clarinet quintet K 581\, Beethoven : s
 tring quartet Op. 95 and Brahms : clarinet quintet Op. 115\n\nIn associati
 on with Alliance Francaise de Pune\n\nGauthier Herrmann is the Artistic di
 rector of Artie’s festival. He won first prize in cello at the Paris Con
 servatoire and since then has embarked on a journey to establish Artie’s
  festival in different parts of the world. A cellist passionately turned t
 owards chamber music\, he has travelled the globe for over ten years in th
 e company of his family - the merry band of Artie’s musicians brought to
 gether by great musical repertoire and loyalty to each other.\n\nOlivier P
 atey has gained a deserved reputation as the most talented clarinettist of
  his generation. In great demand as a chamber music player\, he tries to f
 ind time whenever possible to play this great repertoire for clarinet in s
 pite of his full time appointment as principal clarinettist of the Concert
 gebouw Orchestra Amsterdam.\n\nHugues Borsarello is a violinist par excell
 ence known for his combination of virtuosity and elegance. He performs as 
 soloist and chamber musician all over France and Europe\, and his recordin
 g of the complete Mozart violin concertos has been recently released on Ar
 ties Records.\n\nLaurent Manaud-Pallas is the first soloist at the Orchest
 re National de France. He is also the principal violinist at the Orchestre
  de Pau Pays de Béarn. Laurent Manaud-Pallas plays a 1842 violin from Vis
 senaire.\n\nDue to "his creativity\, enthusiasm and dedication" Arnaud Tho
 rette belongs among the most promising viola players of his generation. He
  has won prizes at the International Viola Competition in Genova\, Paris\,
  Nuremberg and Haverhill\, and was awarded numerous distinctions\, among t
 hem the Prix Académie Ravel. His repertoire ranging from Baroque to Conte
 mporary Music to Tango provides a wealth of variety for his own musical ex
 pression.\n\n\n\n\n\n
ATTACH;FMTTYPE=image/jpeg:https://poonamusic.com/pms_wp/wp-content/uploads
 /2018/02/Volta-Quartet-crop.jpg
CATEGORIES:Festivals
LOCATION:Mazda Hall\, Sardar Dastur Hoshang Boys High School\, Pune\, India
GEO:18.5198845;73.87824479999995
X-APPLE-STRUCTURED-LOCATION;VALUE=URI;X-ADDRESS=Sardar Dastur Hoshang Boys 
 High School\, Pune\, India;X-APPLE-RADIUS=100;X-TITLE=Mazda Hall:geo:18.51
 98845,73.87824479999995
END:VEVENT
END:VCALENDAR