BEGIN:VCALENDAR
VERSION:2.0
PRODID:-//wp-events-plugin.com//7.1.7//EN
BEGIN:VEVENT
UID:1450@poonamusic.com
DTSTART:20180325T130000Z
DTEND:20180325T130000Z
DTSTAMP:20180312T123813Z
URL:https://poonamusic.com/events/arties-festival-volta-quartet/
SUMMARY:Artie’s festival
DESCRIPTION:Gauthier Herrmann\, cello\nOlivier Patey\, clarinet\nEmmanuel C
 hristien\, piano\n\nIn a programme of Schumann: Fantasiestücke for piano 
 solo Op. 12\, Fantasiestücke for clarinet and piano Op. 73\, Kumisbekov :
  Poem for cello and piano\, Brahms : Trio Op. 114 &nbsp\;for clarinet\, ce
 llo\, piano\n\nIn association with Alliance Francaise de Pune\n\nGauthier 
 Herrmann is the Artistic director of Artie’s festival. He won first priz
 e in cello at the Paris Conservatoire and since then has embarked on a jou
 rney to establish Artie’s festival in different parts of the world. A ce
 llist passionately turned towards chamber music\, he has travelled the glo
 be for over ten years in the company of his family - the merry band of Art
 ie’s musicians brought together by great musical repertoire and loyalty 
 to each other.\n\nOlivier Patey has gained a deserved reputation as the mo
 st talented clarinettist of his generation. In great demand as a chamber m
 usic player\, he tries to find time whenever possible to play this great r
 epertoire for clarinet in spite of his full time appointment as principal 
 clarinettist of the Concertgebouw Orchestra Amsterdam.\n\n&nbsp\;\n\nEmman
 uel Christien is one of France's most diverse young pianists who is in gre
 at demand. Emmanuel graduated in piano\, chamber music and vocal accompani
 ment. He won several awards in International competitions for piano\, like
  Casagrande (Italy) and Perlemuter (France).\n\n\n\n
ATTACH;FMTTYPE=image/jpeg:https://poonamusic.com/pms_wp/wp-content/uploads
 /2018/02/web-GauthierHerrmann.jpg
CATEGORIES:Festivals
LOCATION:Mazda Hall\, Sardar Dastur Hoshang Boys High School\, Pune\, India
GEO:18.5198845;73.87824479999995
X-APPLE-STRUCTURED-LOCATION;VALUE=URI;X-ADDRESS=Sardar Dastur Hoshang Boys 
 High School\, Pune\, India;X-APPLE-RADIUS=100;X-TITLE=Mazda Hall:geo:18.51
 98845,73.87824479999995
END:VEVENT
END:VCALENDAR