BEGIN:VCALENDAR
VERSION:2.0
PRODID:-//wp-events-plugin.com//7.1.7//EN
BEGIN:VEVENT
UID:1678@poonamusic.com
DTSTART:20260531T130000Z
DTEND:20260531T130000Z
DTSTAMP:20260419T123007Z
URL:https://poonamusic.com/events/balazs-fulei-piano/
SUMMARY:Balázs Fülei\, piano
DESCRIPTION:In a programme of Bach: English Suite in G minor BWV 808\, Lisz
 t: 2 Legendes: St. Francis of Assisi preaching to the birds and St. Franci
 s of Paola walking on the Waves\, Grieg: 17 Norwegian Peasant Dances Op. 7
 2 (excerpts)\, Ravel: Une barque sur l'Océan\, Ginastera: Danzas Argentin
 as Op. 2 and Kodály: Dances of Marosszék\n\nSupported by Consulate Gener
 al of Hungary in India\n\nRenowned Hungarian pianist Balázs Fülei boas
 ts a diverse and expansive career\, with over thirty piano concertos in hi
 s repertoire\, including all the concertos by Beethoven\, Brahms and Ba
 rtók. His discography includes 16 albums: in 2013\, he released works by
  Bartók and Grieg\; in 2015\, an album featuring Brahms\, Beethoven\
 , Debussy\, and compositions by András Gábor Virágh connected to the
  Moon theme. In 2019\, he recorded Beethoven and Schubert's penultimate so
 natas and released a Liszt album focusing on late compositions. He has als
 o recorded with the Auer Trio\, clarinetist Zsolt Szatmári\, and tenor
  Zoltán Megyesi\, including a notable performance of Schubert's Winterr
 eise.\n\nFülei entered the international music scene early\, winning the 
 International Piano Competition in Taranto in 2005\, followed by addition
 al awards in Milan\, Cagliari\, and Moscow. He was selected twice by th
 e International Holland Music Sessions to perform as a soloist on the N
 ew Masters On Tour.\n\nHis international performances have graced some of 
 the world’s most prestigious venues\, including the Grand Hall of the L
 iszt Academy\, Palace of Arts in Budapest\, Konzerthaus Vienna\, Conce
 rtgebouw Amsterdam\, Kioi Hall Tokyo\, Tchaikovsky Conservatory Moscow\,
  NCPA Mumbai\, and Carnegie Hall in New York\, where he made his debut 
 solo recital in 2008. Fülei has also performed with leading symphony orch
 estras both in Hungary and Internationally.\n\nA passionate chamber musici
 an\, Fülei regularly performs at renowned festivals such as the Festival
  de Bellerive\, Miami Piano Festival\, and Budapest Spring Festival. He 
 is also a key member of the Auer Trio\, which released its debut album in
  2019\, and has performed frequently with the Kodály Quartet\, one of Hu
 ngary's most celebrated chamber ensembles.\n\nSince 2012\, Fülei has been
  a faculty member at the Liszt Academy\, where he serves as Professor and
  Head of the Department of Chamber Music. He has taught and given mastercl
 asses around the world and is the founder of the Echo Summer Academy\, an
  international program held annually at Károlyi Castle in Fehérvárcsu
 rgó\, Hungary.\n\n
ATTACH;FMTTYPE=image/jpeg:https://poonamusic.com/pms_wp/wp-content/uploads
 /2015/04/Balazs_Fulei1cropJPG.jpg
CATEGORIES:Piano recitals
LOCATION:Mazda Hall\, Sardar Dastur Hoshang Boys High School\, Pune\, India
GEO:18.5198845;73.87824479999995
X-APPLE-STRUCTURED-LOCATION;VALUE=URI;X-ADDRESS=Sardar Dastur Hoshang Boys 
 High School\, Pune\, India;X-APPLE-RADIUS=100;X-TITLE=Mazda Hall:geo:18.51
 98845,73.87824479999995
END:VEVENT
END:VCALENDAR