BEGIN:VCALENDAR
VERSION:2.0
PRODID:-//wp-events-plugin.com//7.1.7//EN
BEGIN:VEVENT
UID:337@poonamusic.com
DTSTART:20030720T131500Z
DTEND:20030720T153000Z
DTSTAMP:20150302T203421Z
URL:https://poonamusic.com/events/beethoven-piano-concerto-no-4-op-58-vlad
 imir-ashkenazy-piano-with-the-royal-philharmonic-orchestra-conducted-by-an
 dre-previn-berlioz-symphonie-fantastique-city-of-birmingham-sym-or/
SUMMARY:Beethoven: Piano Concerto No. 4 Op. 58\, Vladimir Ashkenazy\, piano
  with the Royal Philharmonic Orchestra\, conducted by Andre Previn / Berli
 oz: Symphonie Fantastique – City of Birmingham Sym. Orch. Conducted by S
 ir Simon Rattle
DESCRIPTION:Beethoven: Piano Concerto No. 4 Op. 58\, Vladimir Ashkenazy\, p
 iano with the Royal Philharmonic Orchestra\, conducted by Andre Previn / B
 erlioz: Symphonie Fantastique – City of Birmingham Sym. Orch. Conducted 
 by Sir Simon Rattle
CATEGORIES:Video screenings
LOCATION:Mazda Hall\, Sardar Dastur Hoshang Boys High School\, Pune\, India
GEO:18.5198845;73.87824479999995
X-APPLE-STRUCTURED-LOCATION;VALUE=URI;X-ADDRESS=Sardar Dastur Hoshang Boys 
 High School\, Pune\, India;X-APPLE-RADIUS=100;X-TITLE=Mazda Hall:geo:18.51
 98845,73.87824479999995
END:VEVENT
END:VCALENDAR