BEGIN:VCALENDAR
VERSION:2.0
PRODID:-//wp-events-plugin.com//7.1.7//EN
BEGIN:VEVENT
UID:689@poonamusic.com
DTSTART:20041215T131500Z
DTEND:20041215T153000Z
DTSTAMP:20150612T193826Z
URL:https://poonamusic.com/events/boris-berman-2/
SUMMARY:Boris Berman
DESCRIPTION:Boris Berman in association with The National Centre for the Pe
 rforming Arts\n\n\n
CATEGORIES:Piano recitals
LOCATION:Mazda Hall\, Sardar Dastur Hoshang Boys High School\, Pune\, India
GEO:18.5198845;73.87824479999995
X-APPLE-STRUCTURED-LOCATION;VALUE=URI;X-ADDRESS=Sardar Dastur Hoshang Boys 
 High School\, Pune\, India;X-APPLE-RADIUS=100;X-TITLE=Mazda Hall:geo:18.51
 98845,73.87824479999995
END:VEVENT
END:VCALENDAR