BEGIN:VCALENDAR
VERSION:2.0
PRODID:-//wp-events-plugin.com//7.1.7//EN
BEGIN:VEVENT
UID:1173@poonamusic.com
DTSTART:20050219T131500Z
DTEND:20050219T153000Z
DTSTAMP:20150302T203405Z
URL:https://poonamusic.com/events/brigitte-buxtorf-flute-christine-sorense
 n-viola-dagoberto-linhares-guitar-raymond-migy-guitar/
SUMMARY:Brigitte Buxtorf\, flute / Christine Sorensen\, viola / Dagoberto L
 inhares\, guitar / Raymond Migy\, guitar
DESCRIPTION:Brigitte Buxtorf\, flute / Christine Sorensen\, viola / Dagober
 to Linhares\, guitar / Raymond Migy\, guitar
CATEGORIES:Ensembles
LOCATION:Mazda Hall\, Sardar Dastur Hoshang Boys High School\, Pune\, India
GEO:18.5198845;73.87824479999995
X-APPLE-STRUCTURED-LOCATION;VALUE=URI;X-ADDRESS=Sardar Dastur Hoshang Boys 
 High School\, Pune\, India;X-APPLE-RADIUS=100;X-TITLE=Mazda Hall:geo:18.51
 98845,73.87824479999995
END:VEVENT
END:VCALENDAR