BEGIN:VCALENDAR
VERSION:2.0
PRODID:-//wp-events-plugin.com//7.1.7//EN
BEGIN:VEVENT
UID:1579@poonamusic.com
DTSTART:20220814T180000Z
DTEND:20220814T180000Z
DTSTAMP:20220811T074212Z
URL:https://poonamusic.com/events/caroline-adomeit-violin-online-concert/
SUMMARY:Caroline Adomeit \, violin online concert.
DESCRIPTION:Caroline Adomeit \, violin\n\nIn a programme of Bach: Partita N
 o. 1 in B minor\n\nCaroline Adomeit was born into an English-German family
  of musicians and studied with Prof. Herman Krebbers\, Prof. Kolja Blacher
  and Prof. Ingolf Turban. She holds an artists diploma with distinction an
 d a postgraduate concert diploma (Soloist diploma) from the music college 
 in Munich\, Germany.\n\nHer wide ranging repertoire includes more than 300
  compositions and more than 90 with orchestra. As well as the standard vio
 lin repertoire\, Caroline loves to arrange music ranging from jazz\, film\
 , folk to pop. Caroline`s great interest is to bring classical music to th
 e general public and she greatly enjoys writing and performing virtuoso ar
 rangements of jazz pieces\, tangos\, musicals and encore pieces but also e
 njoys transcribing classical pieces. Her concert series “BACH TO TANGO
 ” in which she combined the Partitas by J. S. Bach with dances from over
  300 years ending in a tango led to her first album as a student “BACH T
 O TANGO” which received a fantastic review by “THE STRAD”. In 2017 s
 heet music of piano pieces transcribed for violin and piano by Caroline he
 rself was published by Edition Antes.\n\nCaroline has given many recitals 
 and concerts in Germany\, Austria\, Poland\, Switzerland\, Holland\, Franc
 e and Great Britain. She has appeared with Daniel Hope and has been featur
 ed on both radio and television in Germany and France. Her Debut CD “Bac
 h To Jazz” was chosen by Naxos as ‘Highlight of the month’ and was a
 warded ‘the Blue Moon’ Award (Canada). Her latest CD “VISIONS” (Th
 orofon) was released in August 2017 and has received many excellent review
 s. Caroline has won many prizes in national and international competitions
  such as the International Yfrah Neaman Competition\, and is the youngest 
 prizewinner in the Mozart Society Competition in Mannheim. In 2014 she rec
 eived the ‘Lichtenberger Musikpreis’.\n\nCaroline is an innovative mus
 ician who connects with audiences on many levels: her social media presenc
 e allows her to engage with over 185\,000 classical music lovers and stude
 nts worldwide. She conceived and realized concerts in Germany in which the
  public chose  from over 50 pieces during the evening to create their own
  programme. Inspired by feedback from her social media followers this conc
 ept is intended to break down the wall between performers of classical mus
 ic and their audiences. In this form of concert the audience plays a real 
 active part and communication is key to the success of the performance.\n\
 n
ATTACH;FMTTYPE=image/jpeg:https://poonamusic.com/pms_wp/wp-content/uploads
 /2022/08/Caroline-Adomeit-1-2.jpg
CATEGORIES:Online Concert
LOCATION:https://poonamusic.com/streams/
END:VEVENT
END:VCALENDAR