BEGIN:VCALENDAR
VERSION:2.0
PRODID:-//wp-events-plugin.com//7.1.7//EN
BEGIN:VEVENT
UID:972@poonamusic.com
DTSTART:20081019T131500Z
DTEND:20081019T153000Z
DTSTAMP:20150302T203409Z
URL:https://poonamusic.com/events/celebrations-a-diwali-program-bharatnaty
 am-dance-performance-by-revanta-sarabhai/
SUMMARY:Celebrations-  A Diwali Program - Bharatnatyam Dance Performance 
 by Revanta Sarabhai
DESCRIPTION:Celebrations-  A Diwali Program - Bharatnatyam Dance Performa
 nce by Revanta Sarabhai
CATEGORIES:Indian music and dance
LOCATION:Mazda Hall\, Sardar Dastur Hoshang Boys High School\, Pune\, India
GEO:18.5198845;73.87824479999995
X-APPLE-STRUCTURED-LOCATION;VALUE=URI;X-ADDRESS=Sardar Dastur Hoshang Boys 
 High School\, Pune\, India;X-APPLE-RADIUS=100;X-TITLE=Mazda Hall:geo:18.51
 98845,73.87824479999995
END:VEVENT
END:VCALENDAR