BEGIN:VCALENDAR
VERSION:2.0
PRODID:-//wp-events-plugin.com//7.1.7//EN
BEGIN:VEVENT
UID:1592@poonamusic.com
DTSTART:20230312T183000Z
DTEND:20230312T183000Z
DTSTAMP:20230312T090644Z
URL:https://poonamusic.com/events/colours-of-sounds-music-and-melodies/
SUMMARY:Colours of Sounds - Music and Melodies
DESCRIPTION:Colours of Sounds\nMusic and Melodies\n\nPrem Avinash\, violin\
 nPrem Nisimo\, piano\nNirmala\, voice and tanpura\nNilesh Ranadive\, tabla
 \n\nIn a programme of Sounds have Colors\, Sweet Lotus\,Jog Raga\, Tarana\
 , This Moment\, Raga Bageshree and Rainbow\n\nPrem Avinash is an Internati
 onally known violinist and composer. He often performs his own composition
 s on the Violin and has performed all over India and abroad. He regularly 
 performs in Classical concerts\, Gazal performances and Marathi programmes
 . His Musical Journey moves towards Fusion music to make people dance and 
 celebrate\, and also take them deep into meditation and silence.\n\nHe has
  played live concerts with well-known Bollywood music directors\, Kalyanji
  Anandji\, Yashwant Dev\, Sivamani and many more. He started playing Violi
 n in his childhood and gave his first Radio performance at the age of 13\,
  having learnt Hindustani classical music from Pandit Ravi Shidhaye and Us
 tad Faiyaz Husen Khan.\n\nLearning piano at the age of 7\, Prem Nisimo’s
  performance was already hailed as so expressive by a journalist\, when sh
 e was aged 8. She become a concert pianist at the age of 16\, but she left
  her career to be an avant garde of the big revolution happening in Europe
  and all over the West in 1968\, studying Sociology at the University\, fo
 llowed by a Masters in Sanskrit\, studying at Pune University. She transla
 ted a part of Rumi’s Mesnevì in Italian with a performance in Istanbul 
 in 2011 having the support of the Italian Consulate. Being part of Italian
  Institute of Culture in Istanbul\, writing for the magazine on spiritual 
 concepts\, having conferences on Holistic Platform\, on the arrival of a N
 ew Paradigm and on Wagner and Thomas Mann in Istanbul at the Mimar Sinan S
 tate Conservatory. After retirement\, Nisimo has been music coordinator at
  the Osho International Meditation Resort.\n\nNirmala is an international 
 Singer\, Tanpura player\, song writer and studio artist. She started singi
 ng Bollywood songs and giving performances since her childhood. She has pa
 rticipated in many singing competitions and has won many awards. Her reper
 toire includes Bollywood\, devotional\, folk and fusion music. She learnt 
 Tanpura and Hindustani classical music from Anuradha Arankalle and Sandip 
 Kanigdhwaj. She performs with Avinash and his band all over India and abro
 ad.\n\nA Talented Tabla player and Percussionist\, Nilesh Ranadive trained
  under the guidance of Pandit Suresh Talwalkar and has been featured at pr
 estigious shows in India and abroad. Ranadive's performances are marked by
  his versatility. He has performed with the fusion band\, 'New Life'\, and
  also with eminent musicians like Rahul Sharma\, Ustad Shahid Parvez\, Pan
 dit Ajay Pohankar\, Begum Parveen Sultana\, Aarti Ankalikar and Pandit San
 jeev Abhyankar\, amongst others. When he is not performing at important fe
 stivals in India\, Australia\, USA\, Korea\, Singapore and the Gulf\, he d
 evotes his time to teaching.\n\n&nbsp\;\n\n
ATTACH;FMTTYPE=image/jpeg:https://poonamusic.com/pms_wp/wp-content/uploads
 /2023/02/2008.jpg
CATEGORIES:World Music
LOCATION:Mazda Hall\, Sardar Dastur Hoshang Boys High School\, Pune\, India
GEO:18.5198845;73.87824479999995
X-APPLE-STRUCTURED-LOCATION;VALUE=URI;X-ADDRESS=Sardar Dastur Hoshang Boys 
 High School\, Pune\, India;X-APPLE-RADIUS=100;X-TITLE=Mazda Hall:geo:18.51
 98845,73.87824479999995
END:VEVENT
END:VCALENDAR