BEGIN:VCALENDAR
VERSION:2.0
PRODID:-//wp-events-plugin.com//7.1.7//EN
BEGIN:VEVENT
UID:1537@poonamusic.com
DTSTART:20210214T180000Z
DTEND:20210214T180000Z
DTSTAMP:20210211T153938Z
URL:https://poonamusic.com/events/corinna-ruba-soprano-lullabies-online-co
 ncert/
SUMMARY:Corinna Ruba\, soprano\, Lullabies - online concert
DESCRIPTION:Lullabies\n\nCorinna Ruba\, soprano\; Members of the Peace &amp
 \; Love Orchestra\n\nIn association with Goethe Institute\, Max Mueller Bh
 avan\, Pune and Alliance Française de Pune\n\nProgramme: Rachmaninoff: Ne
  poy krasavitsa\; Verdi: Ave Maria from Otello\; Grieg: Solveig’s song a
 nd Strauss: Beim Schlafengehen\n\nCorinna Ruba is a Berlin based lyric col
 oratura soprano who studied in Munich\, Salzburg and Rome among other plac
 es. She has participated in many Opera festivals and master classes all ov
 er Europe\, and has sung the roles of Pamina and Queen of the Night in Moz
 art’s Magic flute\, Tosca in Puccini’s Tosca\, and many other operas r
 anging from Baroque to Contemporary. She is equally at home singing lieder
  and uses an unusual approach to popularize opera and art song.\n\nSoprano
  Corinna Ruba sends us a second installment of a recording specially made 
 for us in Zurich. This selection includes songs in Russian\, Italian\, Nor
 wegian and German.\n\nNe poy krasavitsa (Sing not\, my beloved) is from Ra
 chmaninoff’s 6 songs Op. 4 with words by Alexander Pushkin. Ave Maria is
  the aria of Desdemona from Verdi’s Otello. Solveig’s song is from Gri
 eg’s incidental music to Henrik Ibsen’s play\, Peer Gynt. The 3rd song
  from Richard Strauss’ famous 4 Last songs ends this recital.\n\nThis fi
 lm will be available for a few weeks.\n\n\n\n
ATTACH;FMTTYPE=image/jpeg:https://poonamusic.com/pms_wp/wp-content/uploads
 /2020/12/IMG_9960cbwc11.jpg
CATEGORIES:Online Concert
LOCATION:https://poonamusic.com/streams/
END:VEVENT
END:VCALENDAR