BEGIN:VCALENDAR
VERSION:2.0
PRODID:-//wp-events-plugin.com//7.1.7//EN
BEGIN:VEVENT
UID:1552@poonamusic.com
DTSTART:20210912T180000Z
DTEND:20210912T180000Z
DTSTAMP:20210923T122045Z
URL:https://poonamusic.com/events/dan-zhu-violin-and-chiara-opalio-piano-o
 nline-concert/
SUMMARY:Dan Zhu\, violin and Chiara Opalio\, piano online concert
DESCRIPTION:Dan Zhu\, violin and Chiara Opalio\, piano\n\nIn a programme of
  Mozart: Sonata K 377 in F major\n\nDan Zhu is a Chinese violinist who liv
 es in Europe and performs with renowned conductors\, orchestras and chambe
 r music partners. His many travels to India and love for the country makes
  him return often to concertise for our audiences in Pune. Due to the pand
 emic\, Dan Zhu has been actively sharing online concerts with his friends 
 all over the world. A recent live performance at the Rigi Musiktage 2021 i
 n Switzerland was recorded\, and he very willingly shares this film with u
 s.\n\nChiara Opalio is a Venetian pianist who has won many prizes in Inter
 national Competitions. She was amongst the few chosen by\nSir Andras Schif
 f to participate in his series called Building Bridges where she played in
  some famous European concert halls. Her Opalio quintet formed in Basel pe
 rforms many chamber music concerts in prestigious venues.\n\nThis film wil
 l be available for a few weeks.\n\n
ATTACH;FMTTYPE=image/jpeg:https://poonamusic.com/pms_wp/wp-content/uploads
 /2021/09/Dan-Zhu-photo_verybig_783.jpg
CATEGORIES:Online Concert
LOCATION:https://poonamusic.com/streams/
END:VEVENT
END:VCALENDAR