BEGIN:VCALENDAR
VERSION:2.0
PRODID:-//wp-events-plugin.com//7.1.7//EN
BEGIN:VEVENT
UID:1554@poonamusic.com
DTSTART:20211017T180000Z
DTEND:20211017T180000Z
DTSTAMP:20211014T164438Z
URL:https://poonamusic.com/events/dan-zhu-violin-and-kun-woo-paik-piano-on
 line-concert/
SUMMARY:Dan Zhu\, violin and Kun-Woo Paik\, piano online concert
DESCRIPTION:Dan Zhu\, violin and Kun-Woo Paik\, piano\n\nProgramme of Beeth
 oven: Sonata No. 10 for Violin and Piano Op. 96\n\nDan Zhu has been a viol
 in soloist and chamber musician all over the world. His high level of musi
 cianship and virtuoso command on his instrument has made him sought after 
 by many colleagues who enjoy making music with him.\nThrough the pandemic\
 , he constantly kept himself busy and played remotely with many distinguis
 hed colleagues and propagated his performances on the internet.\n\nKun-Woo
  Paik is an internationally acclaimed pianist who has had a long career as
  a concert performer and a recording artiste. He joined Dan Zhu last year 
 during some relaxations in Italy\, and they performed the entire cycle of 
 Beethoven Violin – Piano sonatas in Cremona at the fantastic auditorium 
 Giovanni Arvedi at the Museo del Violino.\n\nThis film will be available f
 or a few weeks.\n\n
ATTACH;FMTTYPE=image/jpeg:https://poonamusic.com/pms_wp/wp-content/uploads
 /2021/09/Dan-Zhu-photo_verybig_783.jpg
CATEGORIES:Online Concert
LOCATION:https://poonamusic.com/streams/
END:VEVENT
END:VCALENDAR