BEGIN:VCALENDAR
VERSION:2.0
PRODID:-//wp-events-plugin.com//7.1.7//EN
BEGIN:VEVENT
UID:23@poonamusic.com
DTSTART:20150208T131500Z
DTEND:20150208T153000Z
DTSTAMP:20150302T203430Z
URL:https://poonamusic.com/events/dhvani-sutras-indian-music-explorations/
SUMMARY:Dhvani Sutras - Indian Music Explorations
DESCRIPTION:Mazda Hall at 6.30 pm(Free Admittance)In a programme of music f
 ollowing the workshop by Prof. Sandeep Bhagwati with students of Flane Sch
 ool of Performing ArtsSandeep Bhagwati born in 1963 is an internationally 
 renowned German experimental composer born in Mumbai\, living in Berlin an
 d working as a Canada Research Chair in Inter-X Art at Concordia Universit
 y Montr&eacute\;al. He has a long history in musical encounters: From 2000
 -2008\, he has led the Rasalila Project\, where several high-profile India
 n musicians (Dr. Ashok Ranade\, Shubha Mudgal\, Uday Bhawalkar\, Dhruba Gh
 osh\, Aneesh Pradhan) composed experimental art music for the Ensemble Mod
 ern Frankfurt -&nbsp\; a project that was highly successful\, traveling to
  some of the most renowned concert halls and festivals in Europe. Bhagwati
  has also extensively worked with Chinese\, Korean and Vietnamese musician
 s\, and is currently artistic director of two intertwined ensemble project
 s in Montr&eacute\;al (Ensemble Constantinople) and Berlin (Ensemble Extra
 kte).
CATEGORIES:Indian music and dance
LOCATION:Mazda Hall\, Sardar Dastur Hoshang Boys High School\, Pune\, India
GEO:18.5198845;73.87824479999995
X-APPLE-STRUCTURED-LOCATION;VALUE=URI;X-ADDRESS=Sardar Dastur Hoshang Boys 
 High School\, Pune\, India;X-APPLE-RADIUS=100;X-TITLE=Mazda Hall:geo:18.51
 98845,73.87824479999995
END:VEVENT
END:VCALENDAR