BEGIN:VCALENDAR
VERSION:2.0
PRODID:-//wp-events-plugin.com//7.1.7//EN
BEGIN:VEVENT
UID:1479@poonamusic.com
DTSTART:20181214T133000Z
DTEND:20181214T133000Z
DTSTAMP:20181209T110226Z
URL:https://poonamusic.com/events/duo-farinaldi-with-roberta-bambace-piano
 /
SUMMARY:Duo Farinaldi with Roberta Bambace\, piano
DESCRIPTION:Duo Farinaldi\nFarah Ghadiali\, soprano and Paolo Rinaldi\, pia
 no\nwith Roberta Bambace\, piano\n\nIn a programme of Chopin: Fantasie imp
 romptu in C minor Op. 66\, Ballade No. 1 in G minor Op. 23\; Mozart: Welch
 e Wonne\, Welche Lust (Die Entführung aus dem Serail)\, Exultate Jubilate
 \; Brahms: Scherzo in E flat minor\; Liszt: Polonaise in E minor\; Handel:
  V'adoro Pupille (Giulio Cesare)\, O sleep&nbsp\; (Semele)\, Rejoice Great
 ly &nbsp\;(Messiah)\; R. Schumann: Mondtnacht\, Piano sonata No. 2 in G mi
 nor Op. 22\; Mendelssohn: Andres Meinlied\; Strauss: Morgen\n\nDUO FARINAL
 DI was formed in 2017 by pianist Paolo Rinaldi and soprano Farah Ghadiali 
 who met while studying the PGAD (Artist) programme at the Trinity Laban Co
 nservatoire of Music and Dance\, London. Since then\, they have curated an
 d performed in two seasons of concerts in the UK in venues including St. J
 ames Picadilly\, Southwark Cathedral\, St. Mathews Westminster\, St. John 
 Smith’s Square\, St. Giles Cathedral\, Great Blackheath Halls\, etc. Upc
 oming concerts include venues such as Rocca Palatina Palazzo\, Gazoldo and
  the Monterverdi Auditorium\, Mantova in Italy and in Salzburg\, Austria i
 n July 2018.\n\nSoprano Farah Ghadiali\, completed her MBA from the Univer
 sity of Mumbai with a high distinction and was working as a Senior Manager
 \, Marketing at the NCPA. In September 2014\, she changed the direction of
  her life and went to London to study classical music at the Trinity Laban
  Conservatoire of Music where she was a Kathleen Roberts Vocal Scholar. Sh
 e completed her Masters in Music in 2016 and the Post Graduate Advanced (A
 rtist) Programme in 2017 studying with Soprano Patricia Rozario (OBE\, FRC
 M). Farah is on the coveted student scheme of the Philharmonia Chorus and 
 has performed with them in venues such as the Royal Albert Hall and the Ro
 yal Festival Hall in London. She was selected on the mentor scheme of the 
 English National Opera in 2016-17.\n\nHer operatic performances in London 
 and India include the role of Fortuna (L'incoronazione di Poppea-Monteverd
 i)\; Angelica (Orlando-Handel). Elisetta (Il MatrimonioSegreto-Cimarosa)\;
  Second Woman (Dido and Aeneas-Purcell)\; Solo concert performances includ
 e recitals and concert series with Pianists Paolo Rinaldi and Yuko Yagishi
 ta\, Solo Voice 1 for the composition Tehellim by&nbsp\; Steve Reich and p
 remiering works by Tomoyuki &nbsp\;Niga in London. While studying in Londo
 n\, Farah was selected to sing in masterclasses with Suzan McColloc\, Kath
 ryn Harries\, Louise Crane\, Robin Bowman\, Toby Spence\, Theresa Goble an
 d worked with stage directors such as Elaine Kidd\, Stuart Barker\, Simon 
 Iorio\, James Hurley. She was also selected to perform at the Scholar’s 
 /Teacher’s selection recitals for summer schools viz. AIMS\, Abingdon an
 d the National Opera Studio Short Programs.&nbsp\;\n\nFarah is currently b
 ased in Bombay and continues her studies with Soprano Minaish Doctor and P
 atricia Rozario. She has recently won the national western classical singi
 ng competition: The Neemrana Voice Competition – The Godrej Talent of In
 dia Award in April 2018.&nbsp\;\n\nPianist Paolo Rinaldi\, who has recentl
 y become a Steinway artist was born in Italy to accomplished musicians and
  pedagogues Roberta Bambace and Isacco Rinaldi (his father being the stude
 nt and assistant to Arturo Benedetti Michelangeli and the president of the
  ArtisMagistri in memory of Michelangeli).&nbsp\; After completing his Mas
 ters in Music in Mantova with honours\, he moved to London to study at the
  Royal Academy of Music with Sulamita Aronovsky and then at Trinity Laban 
 Conservatoire with Deniz Gelenbe and Peter Tuite supported by Trinity Laba
 n Award and graduated with distinction in 2017. He is now pursuing the ISP
  Advanced Programme as a Beverly Creed scholar. He was selected in masterc
 lasses with Pascal Rogé\, Leon McCawley\, Boris Petrushansky\, Diana Ketl
 er and with Andrej Jasinski supported by the Hans Werner Henze Foundation.
 \n\nIn 2017\, Paolo won the John Longmire Piano Competition and the Elizab
 eth Schumann Lieder Competition in London. In 2018\, he is the winner of t
 he Alfred Kitchin Piano Competition 2018. Paolo has given over 50 solo rec
 itals all over Europe and recently in UK in venues including Steinway Hall
 \, Regent Hall\, the Polish Heart Club and The Great Blackheath Halls\, al
 so performing for important associations including the Beethoven Society o
 f Europe. Since 2017\, he has formed Duo Farinaldi with Soprano Farah Ghad
 iali and together they have produced two seasons of over 30 recitals all o
 ver the UK.&nbsp\; His future concerts include solo recitals at St. Martin
  in the Fields (Trafalgar Square)\, King Charles Court (Greenwich)\, the C
 hapel of St. Peter and St. Paul (Old Royal Naval College) and The White Ho
 use in London in June 2018.\n\nBorn in Merano\, Italy Roberta Bambace bega
 n to study piano at the age of six with eminent Maestro Nunzio Montanari. 
 From the age of eleven she won numerous national competitions in Italy inc
 luding "Città di Treviso"\,&nbsp\; "La Spezia"\,&nbsp\; "Cesena "\,&nbsp\
 ; "F. Liszt " of Livorno and from the age of fifteen\, she won internation
 al competitions such as "Palma d’Oro " in Finale Ligure\,&nbsp\; "P. Neg
 lia”&nbsp\; of Enna\, "Citaded’Oporto”(Portugal) and Sopron&nbsp\; "
 F. Liszt " (Hungary). She Graduated with the highest honours from the Cons
 ervatory C. Monteverdi in Bolzano and continued her studies with Maestro B
 runo Mezzena attending the master courses on 20th century music at the Tic
 ino Musica International Classic in Lugano (Switzerland). She also studied
  singing and literature at the universities of Modena and Bolzano.&nbsp\;\
 n\nAfter completing her studies\, she began an intense artistic activity w
 ith huge success and won many awards in national and international competi
 tions. Her performances have been transmitted by RAI (Radio and Italian TV
 ). Her repertoire ranges from Scarlatti to 20th century composers.&nbsp\; 
 She began teaching the piano\, first at the Conservatory of Bolzano and cu
 rrently in Mantua. She is in great demand as a pedagogue and holds master 
 classes in Italy\, Spain\, Turkey\, Romania on a regular basis. As a colla
 borative artist\, Roberta has recorded many chamber works\, most recent be
 ing Max Reger’s ‘The Complete Sonatas for piano and clarinet’ for Br
 illiant Classics.&nbsp\;&nbsp\;\n\n
ATTACH;FMTTYPE=image/jpeg:https://poonamusic.com/pms_wp/wp-content/uploads
 /2018/11/Thumbnail-for-website.jpg
CATEGORIES:Vocal Recitals
LOCATION:Mazda Hall\, Sardar Dastur Hoshang Boys High School\, Pune\, India
GEO:18.5198845;73.87824479999995
X-APPLE-STRUCTURED-LOCATION;VALUE=URI;X-ADDRESS=Sardar Dastur Hoshang Boys 
 High School\, Pune\, India;X-APPLE-RADIUS=100;X-TITLE=Mazda Hall:geo:18.51
 98845,73.87824479999995
END:VEVENT
END:VCALENDAR