BEGIN:VCALENDAR
VERSION:2.0
PRODID:-//wp-events-plugin.com//7.1.7//EN
BEGIN:VEVENT
UID:36@poonamusic.com
DTSTART:20130806T131500Z
DTEND:20130806T153000Z
DTSTAMP:20150302T203429Z
URL:https://poonamusic.com/events/duoanjo/
SUMMARY:DuoANJO
DESCRIPTION:Mazda Hall at 7.00 pm(Free Admittance)In a programme of song\, 
 lieder\, opera arias and Gershwin: 1st Prelude for solo piano\; Albeniz: A
 sturias for solo piano\; Schumann-Liszt: Widmung for solo piano and Liszt:
  Un Sospiro for solo pianoJoanne D&rsquo\;Mellois originally from Goa and 
 has a degree in Music from the Royal College of Music in London where she 
 studied with Patricia Rozario OBE. Joanne has sung in Masterclasses of gre
 at opera singers like Sir Thomas Allen\, Ann Murray\, Sarah Walker and Lie
 der interpreters like Matthias Goerne\, Graham Johnson and Ian Partridge. 
 Last year\, she graduated from the Flanders Operastudio in Gent. She has s
 ung at the Opera Houses of Gent\, Antwerp and La Monnaie in Brussels\, deS
 ingel in Antwerp and Concertgebouw in Brugge. Joanne has also sung for the
  Mechelen Festival and will be singing for the Gentse Feesten and Europali
 a. She has recently toured Belgium and France with a childrens&rsquo\; Ope
 ra called Princess Turandot by the Antwerp based theatre company Walpurgis
 .Born in 1985 in Goa\, Andrea Fernandes started her music studies at the a
 ge of 5 in Abu Dhabi. On returning to Goa in 1998\, she received the diplo
 ma of Performer&rsquo\;s Certificate of the Trinity College with Margarida
  Miranda in 2001 with a distinction. In 2003\, she was admitted to the Nat
 ional Conservatory of Lisbon with a scholarship from the Funda&ccedil\;&at
 ilde\;o Oriente\, where she concluded her studies in Piano with Ana Souza 
 Lima and Ana Valente. She participated in various recitals at the Funda&cc
 edil\;&atilde\;o Calouste Gulbenkian\, Centro Cultural de Cascais and at t
 he Teatro Sao Luiz in Portugal. From 2006 - 2011\, she was an accompanist 
 at the Funda&ccedil\;&atilde\;o Calouste Gulbenkian in a music education p
 roject for children. In 2007\, she completed her Bachelor degree in Piano 
 with Jorge Moyano at the Superior School of Music\, Lisbon. She has recent
 ly completed her Masters Degree in Piano accompaniment at the Franz Liszt 
 Academy of Music\, Budapest with a scholarship from the Hungarian State go
 vernment. She participated in the commemorations of the 100th Anniversary 
 of the birth of Sir Georg Solti in October 2012.
CATEGORIES:Vocal Recitals
LOCATION:Mazda Hall\, Sardar Dastur Hoshang Boys High School\, Pune\, India
GEO:18.5198845;73.87824479999995
X-APPLE-STRUCTURED-LOCATION;VALUE=URI;X-ADDRESS=Sardar Dastur Hoshang Boys 
 High School\, Pune\, India;X-APPLE-RADIUS=100;X-TITLE=Mazda Hall:geo:18.51
 98845,73.87824479999995
END:VEVENT
END:VCALENDAR