BEGIN:VCALENDAR
VERSION:2.0
PRODID:-//wp-events-plugin.com//7.1.7//EN
BEGIN:VEVENT
UID:1456@poonamusic.com
DTSTART:20180617T130000Z
DTEND:20180617T130000Z
DTSTAMP:20190418T070930Z
URL:https://poonamusic.com/events/evening-brahms-songs/
SUMMARY:Rahul Bharadwaj\, baritone and Nadine Crasto\, piano
DESCRIPTION:An evening of Brahms Songs\n\nRahul Bharadwaj\, baritone\nNadin
 e Crasto\, piano\n\nIn a programme of Brahms: Von ewiger Liebe Op. 43 No. 
 1\, Die Mainacht Op. 43 No. 2\, Therese Op. 86 No. 1\, Feldeinsamkeit Op. 
 86 No. 2\, Wie Melodien zieht es mir Op. 105 No. 1\, Immer leiser wird mei
 n Schlummer Op. 105 No. 2\, Verrat Op. 105 No. 5\, O kühler Wald Op. 72 N
 o. 3\, Sapphische Ode Op. 94 No. 4\, Der Gang zum Liebchen Op. 48 No. 1\, 
 Sandmännchen WoO 31 No. 4\, Wiegenlied Op. 49 No. 4\, Sonntag Op. 47 No. 
 3 and Gerald Finzi: Let Us Garlands Bring Op. 18\n\nBaritone Rahul Bharadw
 aj is equally at home in opera\, concert\, and recital stages\, performing
  repertoire from the Renaissance to the 20th and 21st centuries. Rahul stu
 died opera and western classical music in Michigan\, completing a Bachelor
  of Music in Vocal Performance in 2011. As a solo baritone he has performe
 d a variety of works ranging from early music to contemporary art song in 
 both sacred and secular settings. Since 2015\, Rahul lives and teaches voi
 ce in Pune\, India.\n\nNadine Crasto began learning the piano at the age o
 f 9 under the tutelage of Myrna Fernandes. She graduated with a Master of 
 Arts Degree in Piano Performance at the Royal Academy of Music\, London\, 
 studying under Colin Stone. Nadine has a BA degree in English Literature a
 nd Psychology. She won the Jazz and Popular Music section at MusicQuest 20
 11\, gave her Young Talent Recital at the NCPA in 2012 and has performed i
 n Mumbai\, Goa\, Kolkata\, Mysore\, Bangalore\, Ahmedabad\, Delhi and Lond
 on.\n\n
ATTACH;FMTTYPE=image/jpeg:https://poonamusic.com/pms_wp/wp-content/uploads
 /2018/04/ESP2626webcrop.jpg
CATEGORIES:Vocal Recitals
LOCATION:Mazda Hall\, Sardar Dastur Hoshang Boys High School\, Pune\, India
GEO:18.5198845;73.87824479999995
X-APPLE-STRUCTURED-LOCATION;VALUE=URI;X-ADDRESS=Sardar Dastur Hoshang Boys 
 High School\, Pune\, India;X-APPLE-RADIUS=100;X-TITLE=Mazda Hall:geo:18.51
 98845,73.87824479999995
END:VEVENT
END:VCALENDAR