BEGIN:VCALENDAR
VERSION:2.0
PRODID:-//wp-events-plugin.com//7.1.7//EN
BEGIN:VEVENT
UID:410@poonamusic.com
DTSTART:19990711T131500Z
DTEND:19990711T153000Z
DTSTAMP:20150302T203420Z
URL:https://poonamusic.com/events/f-p-schubert-the-greatest-love-and-the-g
 reatest-sorrow/
SUMMARY:F. P. Schubert : The greatest love and the greatest sorrow
DESCRIPTION:F. P. Schubert : The greatest love and the greatest sorrow
CATEGORIES:Video screenings
LOCATION:Concert Hall\, St. Vincent's \, Pune\, Maharashtra\, 411001\, Indi
 a
GEO:18.5127407;73.87542639999992
X-APPLE-STRUCTURED-LOCATION;VALUE=URI;X-ADDRESS=St. Vincent's \, Pune\, Mah
 arashtra\, 411001\, India;X-APPLE-RADIUS=100;X-TITLE=Concert Hall:geo:18.5
 127407,73.87542639999992
END:VEVENT
END:VCALENDAR