BEGIN:VCALENDAR
VERSION:2.0
PRODID:-//wp-events-plugin.com//7.1.7//EN
BEGIN:VEVENT
UID:1546@poonamusic.com
DTSTART:20210621T180000Z
DTEND:20210621T180000Z
DTSTAMP:20210618T064847Z
URL:https://poonamusic.com/events/fete-de-la-musique-online-concert/
SUMMARY:Fête de la Musique online concert
DESCRIPTION:From the Inventio Festival\nJoyce Quartet and Claire Merlet\, v
 iola\n\nIn association with Goethe Institut\, Max Mueller Bhavan\, Pune an
 d Alliance Française de Pune\n\nIn a programme of Beethoven: String quint
 et in C major Op. 29\n\nThe Inventio festival is run by violinist Leo Mari
 llier around Paris and this film is from the 2020 edition specially sent t
 o us. This concert takes place in Galleria Continua\, which was formerly a
  paper factory and as a backdrop we see a sculpture titled Cave by Anish K
 apoor. Since 2020\, was a Beethoven year\, the festival programmed this be
 autiful String quintet Op. 29 by Beethoven.\n\nThe Joyce quartet unites fo
 ur young musicians who graduated from the Paris Conservatory with the high
 est distinction\, the Artist Diploma. They specialize in 20th century and 
 contemporary music\, but return to Romantic and classical repertoire as we
 ll. The members have received grants from Mécénat Musical Société Gén
 érale\, Fondation Banque Populaire or Fondation de France. They have appe
 ared in several festivals and are gaining huge popularity with concerts in
  important halls and festivals.\n\nwww.joycequartet.com\n\nThis film will 
 be available for a few weeks.\n\n\n\n
ATTACH;FMTTYPE=image/jpeg:https://poonamusic.com/pms_wp/wp-content/uploads
 /2021/05/Joycequartet2.jpg
CATEGORIES:Online Concert
LOCATION:https://poonamusic.com/streams/
END:VEVENT
END:VCALENDAR